BEGIN:VCALENDAR
VERSION:2.0
PRODID:-//ChamberMaster//Event Calendar 2.0//EN
METHOD:PUBLISH
X-PUBLISHED-TTL:P3D
REFRESH-INTERVAL:P3D
CALSCALE:GREGORIAN
BEGIN:VEVENT
DTSTART:20181212T133000Z
DTEND:20181212T153000Z
X-MICROSOFT-CDO-ALLDAYEVENT:FALSE
SUMMARY:NEW/PROSPECTIVE MEMBER ORIENTATION
DESCRIPTION:Meet our Chamber Team and fellow members. Learn about how to take advantage of our organization at this monthly orientation and networking meeting. \n\n \n\nBring lots of business cards and promotional material\; and for extra attention\, think about bringing a door prize to give away.
X-ALT-DESC;FMTTYPE=text/html:<div><span style="font-size: 16px\;"><span style="color: rgb(51\, 51\, 153)\;">Meet our Chamber Team and fellow members. Learn about how to take advantage of our organization at this monthly&nbsp\;orientation and networking meeting. </span></span></div>\n\n<div>&nbsp\;</div>\n\n<div><span style="color: rgb(51\, 51\, 153)\;"><span style="font-size: medium\;"><span>Bring lots of business cards and promotional material\; and for extra attention\, think about bringing a door prize to give away. <span _fck_bookmark="1" style="display: none\;">&nbsp\;</span></span></span></span></div>\n
LOCATION:MIAMI BEACH CHAMBER OF COMMERCE 1920 MERIDIAN AVENUE MIAMI BEACH FL 33139
UID:e.166.7219
SEQUENCE:3
DTSTAMP:20260422T001534Z
URL:https://business.miamibeachchamber.com/events/details/new-prospective-member-orientation-12-05-2018-7219
END:VEVENT

END:VCALENDAR
