BEGIN:VCALENDAR
VERSION:2.0
PRODID:-//ChamberMaster//Event Calendar 2.0//EN
METHOD:PUBLISH
X-PUBLISHED-TTL:P3D
REFRESH-INTERVAL:P3D
CALSCALE:GREGORIAN
BEGIN:VEVENT
DTSTART:20120404T123000Z
DTEND:20120404T143000Z
X-MICROSOFT-CDO-ALLDAYEVENT:FALSE
SUMMARY:NEW & PROSPECTIVE MEMBER INTRODUCTION
DESCRIPTION:Meet our Chamber Team and fellow members. Learn about how to take advantage of our organization at this monthly introduction and networking meeting.  \n\n	 \n\n	Bring lots of business cards and promotional material\; and for extra attention\, think about bringing a door prize to give away.
X-ALT-DESC;FMTTYPE=text/html:<div>\n	<span style="font-size:16px\;"><span style="color: rgb(51\, 51\, 153)\;">Meet&nbsp\;our Chamber Team and fellow members. Learn about&nbsp\;how to take advantage of our organization&nbsp\;at this monthly introduction and networking meeting.&nbsp\; </span></span></div>\n<div>\n	<span style="color: #333399">&nbsp\;</span></div>\n<div>\n	<span style="color: #333399"><span style="font-size: medium"><span>Bring lots of business cards and promotional material\; and for extra attention\, think about bringing a door prize to give away.&nbsp\; </span></span></span></div>\n
LOCATION:Chamber Third Floor Boardroom 1920 Meridian Avenue Miami Beach FL 33139
UID:e.166.5725
SEQUENCE:3
DTSTAMP:20260423T085039Z
URL:https://business.miamibeachchamber.com/events/details/new-prospective-member-introduction-04-04-2012-5725
END:VEVENT

END:VCALENDAR
