BEGIN:VCALENDAR
VERSION:2.0
PRODID:-//ChamberMaster//Event Calendar 2.0//EN
METHOD:PUBLISH
X-PUBLISHED-TTL:P3D
REFRESH-INTERVAL:P3D
CALSCALE:GREGORIAN
BEGIN:VEVENT
DTSTART:20181111T160000Z
DTEND:20181111T210000Z
X-MICROSOFT-CDO-ALLDAYEVENT:FALSE
SUMMARY:Natural Sundays in the Garden
DESCRIPTION:Get your tickets here: https://www.mbgarden.org/calendar/tickets\n\n\n\nNatural Sundays in the Garden by Alma Community\n\nin collaboration with the Miami Beach Botanical Garden\n\n\n\nJoin us on Sunday\, November 11th for a fun\, family-friendly event in the heart of Miami Beach. You will enjoy an early afternoon of relaxation in the lush\, botanical gardens\, exploring a pop-up wellness market\, and participating in a stimulating mindful eating experience. \n\n\n\nAleksandra Eifler\, founder of Vita Infuse Yourself With Life\, shall lead an interactive wellness brunch\, "Your Craving Is Your Teacher" where you will explore cravings. A craving is a powerful desire\, a sense of longing. The intention is that you will discover that you can learn from your cravings or addictions. The plant-powered brunch shall be provided by Raw Fit Beauty. \n\n\n\n  Wellness Fair & Pop-Up Wellness Market\n\n  Mindful Brunch Workshop led by Aleksandra Eifler\, Founder of Vita Infuse Yourself With Life\n\n  Delicious plant-based meal prepared by Nicole Rodriguez founder of Raw Fit Beauty\n\n  Children's Art Class\n\n  Live Movement & Dance Demonstrations\n\n  Live Music\n\n  10:30am Yoga Session ($10 fee for participants)\n\n\n\nSunday\, November 11\, 2018\n\n11:00am   4:00pm\n\n\n\nMiami Beach Botanical Garden \n\n2000 Convention Center Drive\, Miami Beach FL 33139\n\n\n\n$10 entry | $35 ($10 entry and $25 for workshop + food lunch)\n\n\n\nAll proceeds from the event shall be donated to the Miami Beach Botanical Garden in support of this unique and beautiful venue.\n\n\n\nGet your tickets here: https://www.mbgarden.org/calendar/tickets
X-ALT-DESC;FMTTYPE=text/html:<span style="color:rgb(29\, 33\, 41)\; font-family:system-ui\,-apple-system\,blinkmacsystemfont\,.sfnstext-regular\,sans-serif\; font-size:14px">Get your tickets here:&nbsp\;</span>https://www.mbgarden.org/calendar/tickets<br />\n<br />\n<span style="color:rgb(29\, 33\, 41)\; font-family:system-ui\,-apple-system\,blinkmacsystemfont\,.sfnstext-regular\,sans-serif\; font-size:14px">Natural Sundays in the Garden by Alma Community</span><br />\n<span style="color:rgb(29\, 33\, 41)\; font-family:system-ui\,-apple-system\,blinkmacsystemfont\,.sfnstext-regular\,sans-serif\; font-size:14px">in collaboration with the Miami Beach Botanical Garden</span><br />\n<br />\n<span style="color:rgb(29\, 33\, 41)\; font-family:system-ui\,-apple-system\,blinkmacsystemfont\,.sfnstext-regular\,sans-serif\; font-size:14px">Join us on Sunday\, November 11th for a fun\, family-friendly event in the heart of Miami Beach. You will enjoy an early afternoon of relaxation in the lush\, botanical gardens\, exploring a pop-up wellness market\, and participating in a stimulating mindful eating experience.&nbsp\;</span><br />\n<br />\n<span style="color:rgb(29\, 33\, 41)\; font-family:system-ui\,-apple-system\,blinkmacsystemfont\,.sfnstext-regular\,sans-serif\; font-size:14px">Aleksandra Eifler\, founder of Vita Infuse Yourself With Life\, shall lead an interactive wellness brunch\, &ldquo\;Your Craving Is Your Teacher&rdquo\; where you will explore cravings. A craving is a powerful desire\, a sense of longing. The intention is that you will discover that you can learn from your cravings or addictions. The plant-powered brunch shall be provided by Raw Fit Beauty.&nbsp\;</span><br />\n<br />\n<span style="color:rgb(29\, 33\, 41)\; font-family:system-ui\,-apple-system\,blinkmacsystemfont\,.sfnstext-regular\,sans-serif\; font-size:14px">&bull\; Wellness Fair &amp\; Pop-Up Wellness Market</span><br />\n<span style="color:rgb(29\, 33\, 41)\; font-family:system-ui\,-apple-system\,blinkmacsystemfont\,.sfnstext-regular\,sans-serif\; font-size:14px">&bull\; Mindful Brunch Workshop led by Aleksandra Eifler\, Founder of Vita Infuse Yourself With Life</span><br />\n<span style="color:rgb(29\, 33\, 41)\; font-family:system-ui\,-apple-system\,blinkmacsystemfont\,.sfnstext-regular\,sans-serif\; font-size:14px">&bull\; Delicious plant-based meal prepared by Nicole Rodriguez founder of Raw Fit Beauty</span><br />\n<span style="color:rgb(29\, 33\, 41)\; font-family:system-ui\,-apple-system\,blinkmacsystemfont\,.sfnstext-regular\,sans-serif\; font-size:14px">&bull\; Children&rsquo\;s Art Class</span><br />\n<span style="color:rgb(29\, 33\, 41)\; font-family:system-ui\,-apple-system\,blinkmacsystemfont\,.sfnstext-regular\,sans-serif\; font-size:14px">&bull\; Live Movement &amp\; Dance Demonstrations</span><br />\n<span style="color:rgb(29\, 33\, 41)\; font-family:system-ui\,-apple-system\,blinkmacsystemfont\,.sfnstext-regular\,sans-serif\; font-size:14px">&bull\; Live Music</span><br />\n<span style="color:rgb(29\, 33\, 41)\; font-family:system-ui\,-apple-system\,blinkmacsystemfont\,.sfnstext-regular\,sans-serif\; font-size:14px">&bull\; 10:30am Yoga Session ($10 fee for participants)</span><br />\n<br />\n<span style="color:rgb(29\, 33\, 41)\; font-family:system-ui\,-apple-system\,blinkmacsystemfont\,.sfnstext-regular\,sans-serif\; font-size:14px">Sunday\, November 11\, 2018</span><br />\n<span style="color:rgb(29\, 33\, 41)\; font-family:system-ui\,-apple-system\,blinkmacsystemfont\,.sfnstext-regular\,sans-serif\; font-size:14px">11:00am &ndash\; 4:00pm</span><br />\n<br />\n<span style="color:rgb(29\, 33\, 41)\; font-family:system-ui\,-apple-system\,blinkmacsystemfont\,.sfnstext-regular\,sans-serif\; font-size:14px">Miami Beach Botanical Garden&nbsp\;</span><br />\n<span style="color:rgb(29\, 33\, 41)\; font-family:system-ui\,-apple-system\,blinkmacsystemfont\,.sfnstext-regular\,sans-serif\; font-size:14px">2000 Convention Center Drive\, Miami Beach FL 33139</span><br />\n<br />\n<span style="color:rgb(29\, 33\, 41)\; font-family:system-ui\,-apple-system\,blinkmacsystemfont\,.sfnstext-regular\,sans-serif\; font-size:14px">$10 entry | $35 ($10 entry and $25 for workshop + food lunch)</span><br />\n<br />\n<span style="color:rgb(29\, 33\, 41)\; font-family:system-ui\,-apple-system\,blinkmacsystemfont\,.sfnstext-regular\,sans-serif\; font-size:14px">All proceeds from the event shall be donated to the Miami Beach Botanical Garden in support of this unique and beautiful venue.</span><br />\n<br />\n<span style="color:rgb(29\, 33\, 41)\; font-family:system-ui\,-apple-system\,blinkmacsystemfont\,.sfnstext-regular\,sans-serif\; font-size:14px">Get your tickets here:&nbsp\;</span>https://www.mbgarden.org/calendar/tickets
LOCATION:Miami Beach Botanical Garden 2000 Convention Center Dr. Miami Beach\, FL 33139 305.673.7256
UID:e.166.39313
SEQUENCE:3
DTSTAMP:20260422T001759Z
URL:https://business.miamibeachchamber.com/events/details/natural-sundays-in-the-garden-39313
END:VEVENT

END:VCALENDAR
