BEGIN:VCALENDAR
VERSION:2.0
PRODID:-//ChamberMaster//Event Calendar 2.0//EN
METHOD:PUBLISH
X-PUBLISHED-TTL:P3D
REFRESH-INTERVAL:P3D
CALSCALE:GREGORIAN
BEGIN:VEVENT
DTSTART;VALUE=DATE:20190905
DTEND;VALUE=DATE:20190906
TRANSP:TRANSPARENT
X-MICROSOFT-CDO-ALLDAYEVENT:TRUE
SUMMARY:Mommy & Me at Miami Seaquarium
DESCRIPTION:The "Mommy and Me" program at the Miami Seaquarium is designed to let parents and young children interact and learn about many of our unique animals. Parent and child will bond over animal interactions\, an animal presentation\, and arts and crafts. For children ages 2-5 years.
X-ALT-DESC;FMTTYPE=text/html:The &quot\;Mommy and Me&quot\; program at the Miami Seaquarium is designed to let parents and young children interact and learn about many of our unique animals. Parent and child will bond over animal interactions\, an animal presentation\, and arts and crafts. For children ages 2-5 years.
LOCATION:Miami Seaquarium
UID:e.166.39974
SEQUENCE:3
DTSTAMP:20260423T085814Z
URL:https://business.miamibeachchamber.com/events/details/mommy-me-at-miami-seaquarium-02-20-2019-39974
END:VEVENT

END:VCALENDAR
