BEGIN:VCALENDAR
VERSION:2.0
PRODID:-//ChamberMaster//Event Calendar 2.0//EN
METHOD:PUBLISH
X-PUBLISHED-TTL:P3D
REFRESH-INTERVAL:P3D
CALSCALE:GREGORIAN
BEGIN:VEVENT
DTSTART:20191027T143000Z
DTEND:20191027T150000Z
X-MICROSOFT-CDO-ALLDAYEVENT:FALSE
SUMMARY:Mini-Me Science: Webs of Science
DESCRIPTION:Join Frost Science on Sunday\, October 27 for the next edition of the museum's Mini-Me Science program designed for children ages four and younger. Has your child ever wondered how spiders are able to create their silky masterpieces? During Webs of Science they'll become a tiny entomologist and discover the different parts of a spider and what makes them so special. Then they'll investigate how and why spiders make webs while playing a tossing game to develop motor skills\, before creating their very own spider web to take home.
X-ALT-DESC;FMTTYPE=text/html:<span style="font-family:avenir book"><span style="font-size:9.0pt">Join Frost Science on <strong>Sunday\, October 27</strong> for the next edition of the museum&rsquo\;s Mini-Me Science program designed for children ages four and younger. Has your child ever wondered how spiders are able to create their silky masterpieces? During Webs of Science they&rsquo\;ll become a tiny entomologist and discover the different parts of a spider and what makes them so special. Then they&rsquo\;ll investigate how and why spiders make webs while playing a tossing game to develop motor skills\, before creating their very own spider web to take home.</span></span>
LOCATION:Phillip and Patricia Frost Museum of Science at 1101 Biscayne Blvd\, Miami\, FL 33132
UID:e.166.44056
SEQUENCE:3
DTSTAMP:20260423T103130Z
URL:https://business.miamibeachchamber.com/events/details/mini-me-science-webs-of-science-44056
END:VEVENT

END:VCALENDAR
