BEGIN:VCALENDAR
VERSION:2.0
PRODID:-//ChamberMaster//Event Calendar 2.0//EN
METHOD:PUBLISH
X-PUBLISHED-TTL:P3D
REFRESH-INTERVAL:P3D
CALSCALE:GREGORIAN
BEGIN:VEVENT
DTSTART:20191015T220000Z
DTEND:20191016T000000Z
X-MICROSOFT-CDO-ALLDAYEVENT:FALSE
SUMMARY:Millennial Action Council Steering Committee Meeting
DESCRIPTION:Millennial Action Council Steering Committee Monthly Meeting
X-ALT-DESC;FMTTYPE=text/html:Millennial Action Council Steering Committee Monthly Meeting
LOCATION:Miami Beach Chamber of Commerce 1920 Meridian Avenue\, Miami Beach\, FL 33139
UID:e.166.44060
SEQUENCE:3
DTSTAMP:20260423T103456Z
URL:https://business.miamibeachchamber.com/events/details/millennial-action-council-steering-committee-meeting-44060
END:VEVENT

END:VCALENDAR
