BEGIN:VCALENDAR
VERSION:2.0
PRODID:-//ChamberMaster//Event Calendar 2.0//EN
METHOD:PUBLISH
X-PUBLISHED-TTL:P3D
REFRESH-INTERVAL:P3D
CALSCALE:GREGORIAN
BEGIN:VEVENT
DTSTART:20190408T220000Z
DTEND:20190409T000000Z
X-MICROSOFT-CDO-ALLDAYEVENT:FALSE
SUMMARY:Millennial Action Council Steering Committee Meeting
DESCRIPTION:The steering committee meeting is open to millennial chamber members.\n\n\n\nLocation:\n\nMiami Beach Chamber Boardroom\n\n1920 Meridian Avenue\, 3rd Floor  Miami Beach FL 33139\n\n\n\nMission Statement\n\nThe mission of the Millennial Action Council is to generate new perspectives\, keen insights\, and action-driven strategies from young professionals that focus on issues related to the business community in order to foster collaboration and bridge the knowledge gap between thought-leaders and decision-makers across generations.
X-ALT-DESC;FMTTYPE=text/html:<div 0px="" font-size:="" margin:="" segoe="" style="color: rgb(33\, 33\, 33)\; font-family: wf_segoe-ui_normal\, " text-indent:="">\n<div 0px="" font-size:="" margin:="" segoe="" style="color: rgb(33\, 33\, 33)\; text-align: center\;" text-indent:=""><span style="font-family: proxima-nova\, helvetica\, arial\, sans-serif\; font-size: 20px\;">The steering committee meeting is open to millennial chamber members.<br>\n<br>\nLocation:</span><br>\nMiami Beach Chamber Boardroom</div>\n\n<div 0px="" font-size:="" margin:="" segoe="" style="color: rgb(33\, 33\, 33)\; text-align: center\;" text-indent:="">1920 Meridian Avenue\, 3rd Floor&nbsp\; Miami Beach FL 33139</div>\n\n<div 0px="" font-size:="" margin:="" segoe="" style="color: rgb(33\, 33\, 33)\; text-align: center\;" text-indent:=""><br>\n<span style="font-family: proxima-nova\, helvetica\, arial\, sans-serif\; font-size: 20px\;">Mission Statement</span><br>\nThe mission of the Millennial Action Council is to generate new perspectives\, keen insights\, and action-driven strategies from young professionals that focus on issues related to the business community in order to foster collaboration and bridge the knowledge gap between thought-leaders and decision-makers across generations.<br>\n<br>\n&nbsp\;</div>\n</div>\n
LOCATION:Miami Beach Chamber of Commerce 1920 Meridian Avenue\, 3rd Floor Miami Beach\, FL 33139
UID:e.166.41419
SEQUENCE:3
DTSTAMP:20260422T131309Z
URL:https://business.miamibeachchamber.com/events/details/millennial-action-council-steering-committee-meeting-41419
END:VEVENT

END:VCALENDAR
