BEGIN:VCALENDAR
VERSION:2.0
PRODID:-//ChamberMaster//Event Calendar 2.0//EN
METHOD:PUBLISH
X-PUBLISHED-TTL:P3D
REFRESH-INTERVAL:P3D
CALSCALE:GREGORIAN
BEGIN:VEVENT
DTSTART:20190906T220000Z
DTEND:20190907T000000Z
X-MICROSOFT-CDO-ALLDAYEVENT:FALSE
SUMMARY:Miami Beach Supports The Bahamas
DESCRIPTION:Miami Beach Chamber LIVE presents\n\n\n\nMiami Beach Supports The Bahamas\n\n\n\na live broadcast from The Clevelander to support\n\n\n\nHurricane Dorian Victims' Fundraiser  for Alison Thompson's Third Wave Volunteers\n\n\n\nTune in at 6:00 PM to our LiveStream on Facebook Here.\n\n\n\n\n\nLiveStream powered by WeStream4U.
X-ALT-DESC;FMTTYPE=text/html:Miami Beach Chamber LIVE presents<br />\n<br />\n<span style="font-size:22px\;">Miami Beach Supports The Bahamas</span><br />\n<br />\na live broadcast from The Clevelander to support<br />\n<br />\n<span style="font-size:22px\;">Hurricane Dorian Victims&#39\; Fundraiser&nbsp\; for Alison Thompson&#39\;s Third Wave Volunteers<br />\n<br />\nTune in at 6:00 PM to our LiveStream on&nbsp\;</span><a href="http://facebook.com/miamibeachchamber" style="font-size: 22px\;">Facebook Here</a><span style="font-size:22px\;">.</span><br />\n<br />\n<br />\n<span style="font-size:22px\;"><span style="font-size:14px\;"><span style="font-size:22px\;"><span style="font-size:14px\;">LiveStream powered by <a href="http://westream4u.com">WeStream4U.</a></span></span></span></span><br />\n&nbsp\;
LOCATION:Clevelander Hotel 1020 Ocean Drive Miami Beach\, FL 33139
UID:e.166.43357
SEQUENCE:3
DTSTAMP:20260423T085310Z
URL:https://business.miamibeachchamber.com/events/details/miami-beach-supports-the-bahamas-43357
END:VEVENT

END:VCALENDAR
