BEGIN:VCALENDAR
VERSION:2.0
PRODID:-//ChamberMaster//Event Calendar 2.0//EN
METHOD:PUBLISH
X-PUBLISHED-TTL:P3D
REFRESH-INTERVAL:P3D
CALSCALE:GREGORIAN
BEGIN:VEVENT
DTSTART:20200123T230000Z
DTEND:20200124T010000Z
X-MICROSOFT-CDO-ALLDAYEVENT:FALSE
SUMMARY:Miami Beach Golf Classic Kickoff at the The Ritz-Carlton Residences
DESCRIPTION:Bruce Gould & Jerry Libbin invite you to Tee-Off the Miami Beach Chamber of Commerce\n\n\n\n2020 Miami Beach Golf Classic\n\n\n\nCo-Hosted by Darin Tansey & Sari Libbin of Douglas Elliman\n\n\n\nThursday\, January 23\, 2020\n\n6PM-8PM\n\n\n\nCocktails & Hors d'oeuvres \n\n\n\n\n\nLocation\n\nThe Ritz-Carlton Residences Miami Beach\n\n4701 Meridian Avenue\, Miami Beach\n\n\n\nComplimentary Valet Parking
X-ALT-DESC;FMTTYPE=text/html:<div style="text-align: center\;">Bruce Gould &amp\; Jerry Libbin invite you to Tee-Off the Miami Beach Chamber of Commerce<br />\n<br />\n<span style="font-size:20px\;">2020 Miami Beach Golf Classic</span><br />\n<br />\nCo-Hosted by Darin Tansey &amp\; Sari Libbin of Douglas Elliman<br />\n<br />\n<span style="font-size:18px\;">Thursday\, January 23\, 2020<br />\n6PM-8PM</span><br />\n<br />\n<em><span style="font-size:16px\;">Cocktails &amp\; Hors d&#39\;oeuvres&nbsp\;</span></em><br />\n<br />\n<br />\n<u><strong>Location</strong></u><br />\nThe Ritz-Carlton Residences Miami Beach<br />\n4701 Meridian Avenue\, Miami Beach<br />\n<br />\n<span style="font-size:16px\;"><em>Complimentary Valet Parking</em></span></div>\n
LOCATION:The Ritz-Carlton Residences Miami Beach 4701 Meridian Avenue\, Miami Beach
UID:e.166.48015
SEQUENCE:3
DTSTAMP:20260423T075127Z
URL:https://business.miamibeachchamber.com/events/details/miami-beach-golf-classic-kickoff-at-the-the-ritz-carlton-residences-48015
END:VEVENT

END:VCALENDAR
