BEGIN:VCALENDAR
VERSION:2.0
PRODID:-//ChamberMaster//Event Calendar 2.0//EN
METHOD:PUBLISH
X-PUBLISHED-TTL:P3D
REFRESH-INTERVAL:P3D
CALSCALE:GREGORIAN
BEGIN:VEVENT
DTSTART:20190407T160000Z
DTEND:20190407T173000Z
X-MICROSOFT-CDO-ALLDAYEVENT:FALSE
SUMMARY:Miami Beach Gay Pride Parade 2019
DESCRIPTION:The Miami Beach Chamber of Commerce & City National Bank Invites You To Our\n\n\n\n \n\n"Gay Spirit 19' "\n\nMIAMI BEACH GAY PRIDE PARADE\n\n\n\n \n\nAlong with\, Regis HR\, 84 West Events and R House Wynwood\n\n\n\n \n\n \n\nThe Miami Beach Chamber of Commerce is proud to participate in this year's Miami Beach Gay Pride Parade. \n\n \n\nHop on board our float and show your support!  \n\n \n\nOur float will include drag entertainers\, courtesy of R House Wynwood\, music\, provided by 84 West Events\, and lots of fun!\n\n \n\n \n\nDate: Sunday\, April 7\, 2019\n\nLocation: Ocean Drive\n\nParade Starts at 12:00 PM\n\n\n\n \n\nOnce you confirm your attendance\, we will email you more information on the meeting place and time.\n\n \n\n \n\nRSVP is VERY limited. Confirm your spot on the float today. \n\nIf you are bringing guests\, please make sure to register their names as well.\n \n\nFor questions or additional information\, please contact Danny at the Miami Beach Chamber of Commerce 305-674-1300 or  danny@miamibeachchamber.com
X-ALT-DESC;FMTTYPE=text/html:<div style="border-width: medium medium 4.5pt\; border-style: none none solid\; padding: 0in 0in 13pt\; text-align: center\;"><strong><span style="color:black\;"><span style="font-family:arial\,sans-serif\;"><span style="font-size:16.0pt\;">The Miami Beach Chamber of Commerce &amp\; City National Bank Invites You To</span></span></span></strong><strong><span style="color:black\;"><span style="font-family:arial\,sans-serif\;"><span style="font-size:16.0pt\;">&nbsp\;Our</span></span></span></strong><br />\n<br />\n&nbsp\;<br />\n<strong><span style="color:black\;"><span style="font-family:arial\,sans-serif\;"><span style="font-size:16.0pt\;">&quot\;Gay Spirit 19&#39\; &quot\;</span></span></span><br />\n<span style="font-family:arial\,sans-serif\;"><span style="font-size:16.0pt\;">MIAMI BEACH GAY PRIDE PARADE</span></span><br />\n<br />\n&nbsp\;<br />\n<span style="color:black\;"><span style="font-family:arial\,sans-serif\;"><span style="font-size:16.0pt\;">Along with\, </span></span></span><span style="color:black\;"><span style="font-family:arial\,sans-serif\;"><span style="font-size:16.0pt\;">Regis HR\, 84 West Events and R House Wynwood</span></span></span></strong><br />\n<br />\n&nbsp\;<br />\n&nbsp\;<br />\n<span style="color:black\;"><span style="font-family:arial\,sans-serif\;"><span style="font-size:14.0pt\;">The Miami Beach Chamber of Commerce is proud to participate in this year&#39\;s Miami Beach </span></span></span><span style="font-family:arial\,sans-serif\;"><span style="font-size:14.0pt\;">Gay Pride Parade. </span></span><br />\n&nbsp\;<br />\n<span style="font-family:arial\,sans-serif\;"><span style="font-size:14.0pt\;">Hop on board our float and show your support! &nbsp\;</span></span><br />\n&nbsp\;<br />\n<span style="font-family:arial\,sans-serif\;"><span style="font-size:14.0pt\;">Our float will include drag entertainers\, courtesy of R House Wynwood\, music\, provided by 84 West Events\, and lots of fun!</span></span><br />\n&nbsp\;<br />\n&nbsp\;<br />\n<strong><span style="color:black\;"><span style="font-family:arial\,sans-serif\;"><span style="font-size:14.0pt\;">Date: Sunday\, April 7\, 2019</span></span></span><br />\n<span style="color: rgb(0\, 0\, 0)\; font-family: arial\, sans-serif\; font-size: 18.6667px\; text-align: center\;">Location: Ocean Drive</span><br />\n<span style="color:black\;"><span style="font-family:arial\,sans-serif\;"><span style="font-size:14.0pt\;">Parade Starts at 12:00 PM</span></span></span></strong><br />\n<br />\n&nbsp\;<br />\n<span style="color:black\;"><span style="font-family:arial\,sans-serif\;"><span style="font-size:14.0pt\;">Once you confirm your attendance\, we will email you more information on the meeting place and time.</span></span></span><br />\n&nbsp\;<br />\n<span style="color:black\;"><span style="font-family:arial\,sans-serif\;"><span style="font-size:14.0pt\;">&nbsp\;</span></span></span><br />\n<strong><span style="background-image:initial\;background-position:initial\;background-size:initial\;background-repeat:initial\;background-attachment:initial\;background-origin:initial\;background-clip:initial\;"><span style="color:black\;"><span style="font-family:arial\,sans-serif\;"><span style="font-size:14pt\;">RSVP is VERY limited. Confirm your spot on the float today.</span></span></span></span></strong>&nbsp\;<br />\n<span style="font-size:16px\;">If you are bringing guests\, please make sure to register their names as well.</span>\n<div _mce_style="color: #000000\; font-family: Arial\, Helvetica\, sans-serif\; font-size: 14pt\;" style="text-align: -webkit-center\; color: rgb(0\, 0\, 0)\; font-family: Arial\, Helvetica\, sans-serif\; font-size: 14pt\;">&nbsp\;</div>\n\n<div style="color: rgb(238\, 110\, 101)\; font-family: Arial\, Verdana\, Helvetica\, sans-serif\; font-size: 24px\; text-align: -webkit-center\;"><span _mce_style="font-family: Arial\, Helvetica\, sans-serif\; font-size: 14pt\; text-align: -webkit-center\; color: #000000\;" style="font-family: Arial\, Helvetica\, sans-serif\; font-size: 14pt\; color: rgb(0\, 0\, 0)\;">For questions or additional information\, please contact Danny at the Miami Beach Chamber of Commerce 305-674-1300 or&nbsp\;</span><span _mce_style="font-size: 14pt\;" style="font-size: 14pt\;">&nbsp\;<a _mce_href="mailto:danny@miamibeachchamber.com" _mce_shape="rect" _mce_style="color: #000000\; text-decoration: underline\;" href="mailto:danny@miamibeachchamber.com" linktype="2" shape="rect" style="color: rgb(0\, 0\, 0) !important\;" target="_blank">danny@miamibeachchamber.com</a></span></div>\n</div>\n
LOCATION:Once you confirm your attendance we will send you additional information on where to meet.
UID:e.166.41409
SEQUENCE:3
DTSTAMP:20260422T131151Z
URL:https://business.miamibeachchamber.com/events/details/miami-beach-gay-pride-parade-2019-41409
END:VEVENT

END:VCALENDAR
