BEGIN:VCALENDAR
VERSION:2.0
PRODID:-//ChamberMaster//Event Calendar 2.0//EN
METHOD:PUBLISH
X-PUBLISHED-TTL:P3D
REFRESH-INTERVAL:P3D
CALSCALE:GREGORIAN
BEGIN:VEVENT
DTSTART:20191017T230000Z
DTEND:20191018T013000Z
X-MICROSOFT-CDO-ALLDAYEVENT:FALSE
SUMMARY:Meet the Candidates
DESCRIPTION:MEET THE CANDIDATES NIGHT\n\nhosted at the Galbut Family Miami Beach JCC\n\n\n\nOn behalf of the Miami Beach Chamber of Commerce and presented by its Law Council\, Millennial Action Council\, the JCC and Miami Beach Bar Association\, you are invited to join us to meet your City of Miami Beach Commission Candidates.  \n\n\n\nProgram begins at 7:30 PM. There will be an introduction of each candidate as well as a moderated Q&A by:\n\n\n\nSusan Askew | RE: MIAMIBEACH\n\n\n\n\n\nRegistration - 7:00PM\n\nAll attendees must present a valid state-issued ID to enter the Miami Beach JCC premises.\n\nAttendees will have an opportunity to submit a question to the candidates. Not all submitted questions will be asked. \n\n\n\nCost\n\n\n\nEnjoy some lite refreshments at this community event that is free and open to the public.\n\n\n\nParking\n\n\n\nParking lot is for Miami Beach JCC members only. Valet is available for guests for $6. There is also a municipal parking lot at 400 W 42nd St\, Miami Beach\, FL 33140.\n\n\n\n\n\n\n\nCandidates\n\n \n\n\n\n\n\nGroup 4\n\nMichael "Mike B" Barrineau\n\nKristen Rosen Gonzalez\n\nSteven J. Meiner\n\nRafael A. Velasquez\, J.D. \n\n\n\nGroup 5\n\nRicky Arriola\n\nStephen Cohen\n\nRaquel Pacheco \n\nJonathan Welsh\n\n\n\nGroup 6\n\nAdrian Gonzalez\n\nMohammed Rafiqul Islam\n\nDavid Richardson\n\nBlake Young
X-ALT-DESC;FMTTYPE=text/html:<p><br />\n<span style="font-size:11px\;"><strong><span style="font-size:24px\;">MEET THE CANDIDATES NIGHT</span></strong></span><br />\nhosted at the Galbut Family Miami Beach JCC<br />\n<br />\nOn behalf of the Miami Beach Chamber of Commerce and presented by its Law Council\, Millennial Action Council\, the JCC and Miami Beach Bar Association\, you are invited to join us to meet your City of Miami Beach Commission Candidates.&nbsp\;&nbsp\;<br />\n<br />\nProgram begins at 7:30 PM. There will be an introduction of each candidate as well as a moderated Q&amp\;A by:<br />\n<br />\n<span style="font-size:16px\;"><a href="https://www.remiamibeach.com/">Susan Askew | RE: MIAMIBEACH</a></span><br />\n<br />\n<br />\n<u><strong>Registration - 7:00PM</strong></u><br />\nAll attendees must present a valid state-issued ID to enter the Miami Beach JCC premises.<br />\nAttendees will have an opportunity to submit a question to the candidates. Not all submitted questions will be asked.&nbsp\;<br />\n<br />\n<u><strong>Cost</strong></u><br />\n<br />\nEnjoy some lite refreshments at this community event that is&nbsp\;free and open to the public.<br />\n<br />\n<u><strong>Parking</strong></u><br />\n<br />\nParking lot is for Miami Beach JCC members only. Valet is available for guests for $6. There is also a municipal parking lot at&nbsp\;<span style="color: rgba(0\, 0\, 0\, 0.87)\; font-family: Roboto\, Arial\, sans-serif\; background-color: rgba(0\, 0\, 0\, 0.03)\;">400 W 42nd St\, Miami Beach\, FL 33140.</span><br />\n<br />\n<br />\n<br />\n<u><strong>Candidates</strong></u><br />\n&nbsp\;<br />\n<br />\n<br />\n<u><strong>Group 4</strong></u><br />\nMichael &quot\;Mike B&quot\; Barrineau<br />\nKristen Rosen Gonzalez<br />\nSteven J. Meiner<br />\nRafael A. Velasquez\, J.D.&nbsp\;<br />\n<br />\n<strong><u>Group 5</u></strong><br />\nRicky Arriola<br />\nStephen Cohen<br />\nRaquel Pacheco&nbsp\;<br />\nJonathan Welsh<br />\n<br />\n<u><strong>Group 6</strong></u><br />\nAdrian Gonzalez<br />\nMohammed Rafiqul Islam<br />\nDavid Richardson<br />\nBlake Young<br />\n<br />\n<br />\n<br />\n&nbsp\;</p>\n
LOCATION:Miami Beach JCC 4221 Pine Tree Drive Miami Beach\, FL 33140
UID:e.166.43294
SEQUENCE:3
DTSTAMP:20260423T103114Z
URL:https://business.miamibeachchamber.com/events/details/meet-the-candidates-43294
END:VEVENT

END:VCALENDAR
