BEGIN:VCALENDAR
VERSION:2.0
PRODID:-//ChamberMaster//Event Calendar 2.0//EN
METHOD:PUBLISH
X-PUBLISHED-TTL:P3D
REFRESH-INTERVAL:P3D
CALSCALE:GREGORIAN
BEGIN:VEVENT
DTSTART:20260623T210000Z
DTEND:20260623T223000Z
X-MICROSOFT-CDO-ALLDAYEVENT:FALSE
SUMMARY:MBCC: Technology & AI Accelerator Council Meeting
DESCRIPTION:Council Chair Valerie Jennings cordially invites you to attend the Introduction of the Tech & AI Accelerator Council!\n\n \nAI isn't just changing business\; it's changing how we live\, experience and build the future. Join us June 23 for a Technology & AI Accelerator Council session featuring leaders building what's next from AI-powered environments to the future of personal flight.\n\n \n\nFeaturing:\n\n\n	Ed Miranda\, CEO of ELISIUM\,   AI-driven future environments & "cognitive cities."\n	Doron Merdinger\, CEO of Doroni Aerospace   the future of mobility & eVTOL flight.\n\n\nThis is a happy hour + panel designed to help you:\n\n\n\n  Think bigger about your business\n\n  Understand where AI is actually going\n\n  Learn how to create more elevated products\, services\, and experiences\n\n\n\n\nNo tech experience needed\, just practical\, real-world strategies!\n\n\n\n\n\n Mission Statement:\n \n\nThe mission of the Technology Council is to educate about and promote the benefits of technology by keeping Miami Beach Chamber of Commerce members informed of the latest technology developments impacting their businesses and the local community. To foster connections and communication with the Tech Ecosystem in Miami Beach and beyond.\n \n\nFor more information regarding the Council\, please contact  programs@miamibeachchamber.com
X-ALT-DESC;FMTTYPE=text/html:<div style="text-align: center\;"><span style="font-size:14px\;"><span style="font-family:times new roman\;">Council Chair&nbsp\;Valerie Jennings&nbsp\;cordially invites you to attend the <strong><u>Introduction of the Tech &amp\; AI Accelerator Council!</u></strong></span></span><br />\n&nbsp\;\n<p data-end="381" data-olk-copy-source="MessageBody" data-start="286" style="color: rgb(0\, 0\, 0)\; font-family: Calibri\, Helvetica\, sans-serif\, serif\, EmojiFont\; font-size: 16px\; margin-top: 0px\; margin-bottom: 0px\;"><span style="font-size:14px\;"><span style="font-family:times new roman\;">AI isn&rsquo\;t just changing business\; it&rsquo\;s changing how we live\, experience and build the future.&nbsp\;<span style="border: 0px\; font-style: inherit\; font-variant: inherit\; font-weight: inherit\; font-stretch: inherit\; line-height: inherit\; font-optical-sizing: inherit\; font-size-adjust: inherit\; font-kerning: inherit\; font-feature-settings: inherit\; font-variation-settings: inherit\; font-language-override: inherit\; margin: 0px\; padding: 0px\; vertical-align: baseline\; color: inherit\;">Join us&nbsp\;</span><strong data-end="402" data-start="391" style="font-size: 12pt\;">June 23</strong><span style="border: 0px\; font-style: inherit\; font-variant: inherit\; font-weight: inherit\; font-stretch: inherit\; line-height: inherit\; font-optical-sizing: inherit\; font-size-adjust: inherit\; font-kerning: inherit\; font-feature-settings: inherit\; font-variation-settings: inherit\; font-language-override: inherit\; margin: 0px\; padding: 0px\; vertical-align: baseline\; color: inherit\;">&nbsp\;for a Technology &amp\; AI Accelerator Council session featuring leaders building what&rsquo\;s next&mdash\;from AI-powered environments to the future of personal flight.</span></span></span></p>\n\n<p data-end="570" data-start="556" style="color: rgb(0\, 0\, 0)\; font-family: Calibri\, Helvetica\, sans-serif\, serif\, EmojiFont\; font-size: 16px\; margin-top: 0px\; margin-bottom: 0px\;">&nbsp\;</p>\n\n<p data-end="570" data-start="556" style="color: rgb(0\, 0\, 0)\; font-family: Calibri\, Helvetica\, sans-serif\, serif\, EmojiFont\; font-size: 16px\; margin-top: 0px\; margin-bottom: 0px\;"><span style="font-size:14px\;"><span style="font-family:times new roman\;"><strong data-end="570" data-start="556">Featuring:</strong></span></span></p>\n\n<ul data-end="747" data-start="571" style="color: rgb(0\, 0\, 0)\; font-family: Calibri\, Helvetica\, sans-serif\, serif\, EmojiFont\; font-size: 16px\;">\n	<li data-end="665" data-section-id="91x601" data-start="571"><span style="font-size:14px\;"><span style="font-family:times new roman\;"><span style="border: 0px\; font-style: inherit\; font-variant: inherit\; font-weight: inherit\; font-stretch: inherit\; line-height: inherit\; font-optical-sizing: inherit\; font-size-adjust: inherit\; font-kerning: inherit\; font-feature-settings: inherit\; font-variation-settings: inherit\; font-language-override: inherit\; margin: 0px\; padding: 0px\; vertical-align: baseline\; color: inherit\;">Ed Miranda\,&nbsp\;<span style="border: 0px\; font-style: inherit\; font-variant: inherit\; font-weight: inherit\; font-stretch: inherit\; line-height: inherit\; font-optical-sizing: inherit\; font-size-adjust: inherit\; font-kerning: inherit\; font-feature-settings: inherit\; font-variation-settings: inherit\; font-language-override: inherit\; margin: 0px\; padding: 0px\; vertical-align: baseline\; color: inherit\;">CEO of ELISIUM\,</span></span>&nbsp\;&mdash\; AI-driven future environments &amp\; &ldquo\;cognitive cities.&rdquo\;</span></span></li>\n	<li data-end="747" data-section-id="1gm3gv" data-start="666"><span style="font-size:14px\;"><span style="font-family:times new roman\;"><span style="border: 0px\; font-style: inherit\; font-variant: inherit\; font-weight: inherit\; font-stretch: inherit\; line-height: inherit\; font-optical-sizing: inherit\; font-size-adjust: inherit\; font-kerning: inherit\; font-feature-settings: inherit\; font-variation-settings: inherit\; font-language-override: inherit\; margin: 0px\; padding: 0px\; vertical-align: baseline\; color: inherit\;">Doron Merdinger\,&nbsp\;<span style="border: 0px\; font-style: inherit\; font-variant: inherit\; font-weight: inherit\; font-stretch: inherit\; line-height: inherit\; font-optical-sizing: inherit\; font-size-adjust: inherit\; font-kerning: inherit\; font-feature-settings: inherit\; font-variation-settings: inherit\; font-language-override: inherit\; margin: 0px\; padding: 0px\; vertical-align: baseline\; color: inherit\;">CEO of Doroni Aerospace</span></span>&nbsp\;&mdash\; the future of mobility &amp\; eVTOL flight.</span></span></li>\n</ul>\n\n<p data-end="956" data-start="749" style="color: rgb(0\, 0\, 0)\; font-family: Calibri\, Helvetica\, sans-serif\, serif\, EmojiFont\; font-size: 16px\; margin-top: 0px\; margin-bottom: 0px\;"><span style="font-size:14px\;"><span style="font-family:times new roman\;">This is a&nbsp\;<strong data-end="781" data-start="759">happy hour + panel</strong>&nbsp\;designed to help you:</span></span></p>\n\n<p data-end="956" data-start="749" style="color: rgb(0\, 0\, 0)\; font-family: Calibri\, Helvetica\, sans-serif\, serif\, EmojiFont\; font-size: 16px\; margin-top: 0px\; margin-bottom: 0px\;"><br />\n<span style="font-size:14px\;"><span style="font-family:times new roman\;">&bull\; Think bigger about your business<br />\n&bull\; Understand where AI is actually going<br />\n&bull\; Learn how to create more elevated products\, services\, and experiences</span></span></p>\n</div>\n\n<div style="text-align: center\;"><br />\n<span style="font-size:14px\;"><span style="font-family:times new roman\;">No tech experience needed\, just practical\, real-world strategies!</span></span>\n\n<hr /><br />\n<br />\n<u><strong>&nbsp\;Mission Statement:</strong></u></div>\n&nbsp\;\n\n<p dir="ltr" role="presentation" style="list-style-type: disc\; font-size: 12pt\; font-family: Arial\, sans-serif\; color: rgb(0\, 0\, 0)\; background-color: transparent\; font-variant-numeric: normal\; font-variant-east-asian: normal\; font-variant-alternates: normal\; font-variant-position: normal\; font-variant-emoji: normal\; vertical-align: baseline\; white-space: pre\;line-height:1.38\;margin-top:0pt\;margin-bottom:0pt\;"><span style="font-size:12px\;"><span id="docs-internal-guid-87583428-7fff-87e3-4d62-5185fb200238"><span style="color: rgb(26\, 26\, 26)\; font-variant-numeric: normal\; font-variant-east-asian: normal\; font-variant-alternates: normal\; font-variant-position: normal\; font-variant-emoji: normal\; vertical-align: baseline\; text-wrap-mode: wrap\;">The mission of the Technology Council is to educate about and promote the benefits of technology by keeping Miami Beach Chamber of Commerce members informed of the latest technology developments impacting their businesses and the local community. To foster connections and communication with the Tech Ecosystem in Miami Beach and beyond.</span></span></span></p>\n&nbsp\;<br />\nFor more information regarding the Council\, please contact&nbsp\; programs@miamibeachchamber.com<br />\n&nbsp\;
LOCATION:This meeting will be held in person at our Chamber HQ | No option for Zoom/Hybrid Miami Beach Chamber Headquarters 1920 Meridian Ave Miami Beach\, Fl 33139
UID:e.166.85248
SEQUENCE:3
DTSTAMP:20260420T232531Z
URL:https://business.miamibeachchamber.com/events/details/mbcc-technology-ai-accelerator-council-meeting-85248
END:VEVENT

END:VCALENDAR
