BEGIN:VCALENDAR
VERSION:2.0
PRODID:-//ChamberMaster//Event Calendar 2.0//EN
METHOD:PUBLISH
X-PUBLISHED-TTL:P3D
REFRESH-INTERVAL:P3D
CALSCALE:GREGORIAN
BEGIN:VEVENT
DTSTART:20260512T130000Z
DTEND:20260512T143000Z
X-MICROSOFT-CDO-ALLDAYEVENT:FALSE
SUMMARY:MBCC: Resiliency & Sustainability Council
DESCRIPTION:Join Us for the Resiliency & Sustainability Council Meeting!\n\nOn behalf of the Resiliency & Sustainability Council Co-Chairs\, John Stuart (FIU College of Communication\, Architecture + The Arts)\, and Chelsea Lunn (FPL) we invite you to attend our upcoming Resiliency & Sustainability Council meeting!\n\n\n\n                                                                              Topic: \n\n                                                                   Tour of Bayshore Park!\n\n\n\n                                                                            Speakers: \n\n                                                                        Amy Knowles\n\n                                                           Chief Resilience Officer and Director\n\n                                                                          City of Miami Beach \n\n\n\nMission Statement: The Task Force will focus on enhancing dialog between city government\, Miami Beach citizens and Chamber leadership on the topic of sustainability and resiliency. Through education\, risk analysis\, economic considerations\, insurance risks\, consideration of new technologies and local contexts\, the committee seeks solutions with the objective of framing a well-balanced process that is ongoing and will continue to address challenges to the Coastal Community of Miami Beach and its government\, citizens and to the business community. The task force will formulate a more consistent platform for dialog on the important topics related to sustainability and resiliency and follow the 100 Resilient Cities Rockefeller Foundation initiative\, as it explores the following four dimensions to sustainability and resilience: Health & Wellbeing\; Economy & Society\; Infrastructure & Environment\; and Leadership & Strategy.\n\n \n\n \n\n \n\n\n\nFor any questions\, feel free to reach out to programs@miamibeachchamber.com.\n\nLooking forward to seeing you there!
X-ALT-DESC;FMTTYPE=text/html:<p data-end="159" data-start="93">&nbsp\;&nbsp\;&nbsp\;&nbsp\;&nbsp\;&nbsp\;&nbsp\;&nbsp\;&nbsp\;&nbsp\;&nbsp\;&nbsp\;&nbsp\;&nbsp\;&nbsp\;&nbsp\;&nbsp\;&nbsp\;&nbsp\;&nbsp\;&nbsp\;&nbsp\;&nbsp\;&nbsp\;&nbsp\;&nbsp\;&nbsp\;&nbsp\;&nbsp\;&nbsp\;&nbsp\;&nbsp\;&nbsp\;&nbsp\;&nbsp\;&nbsp\;&nbsp\;&nbsp\;&nbsp\;&nbsp\;&nbsp\;&nbsp\;&nbsp\;&nbsp\;<span style="font-size:12px\;"><span style="font-family:times new roman\;"><strong data-end="157" data-start="93">Join Us for the Resiliency &amp\; Sustainability Council Meeting!</strong></span></span></p>\n\n<p data-end="446" data-start="161"><span style="font-size:12px\;"><span style="font-family:times new roman\;">On behalf of the <strong data-end="227" data-start="178">Resiliency &amp\; Sustainability Council Co-Chairs</strong>\,&nbsp\;<strong data-end="301" data-start="286">John Stuart</strong> (FIU College of Communication\, Architecture + The Arts)\, and Chelsea Lunn (FPL) we invite you to attend our upcoming <strong data-end="444" data-start="396">Resiliency &amp\; Sustainability Council meeting!</strong></span></span><br />\n<br />\n&nbsp\;&nbsp\;&nbsp\;&nbsp\;&nbsp\;&nbsp\;&nbsp\;&nbsp\;&nbsp\;&nbsp\;&nbsp\;&nbsp\;&nbsp\;&nbsp\;&nbsp\;&nbsp\;&nbsp\;&nbsp\;&nbsp\;&nbsp\;&nbsp\;&nbsp\;&nbsp\;&nbsp\;&nbsp\;&nbsp\;&nbsp\;&nbsp\;&nbsp\;&nbsp\;&nbsp\;&nbsp\;&nbsp\;&nbsp\;&nbsp\;&nbsp\;&nbsp\;&nbsp\;&nbsp\;&nbsp\;&nbsp\;&nbsp\;&nbsp\;&nbsp\;&nbsp\;&nbsp\;&nbsp\;&nbsp\;&nbsp\;&nbsp\;&nbsp\;&nbsp\;&nbsp\;&nbsp\;&nbsp\;&nbsp\;&nbsp\;&nbsp\;&nbsp\;&nbsp\;&nbsp\;&nbsp\;&nbsp\;&nbsp\;&nbsp\;&nbsp\;&nbsp\;&nbsp\;&nbsp\;&nbsp\;&nbsp\;&nbsp\;&nbsp\;&nbsp\;&nbsp\;&nbsp\;&nbsp\;&nbsp\;<span style="font-size:12px\;"><span style="font-family:times new roman\;"><strong data-end="444" data-start="396"><u>Topic:&nbsp\;</u></strong></span></span><br />\n&nbsp\;&nbsp\;&nbsp\;&nbsp\;&nbsp\;&nbsp\;&nbsp\;&nbsp\;&nbsp\;&nbsp\;&nbsp\;&nbsp\;&nbsp\;&nbsp\;&nbsp\;&nbsp\;&nbsp\;&nbsp\;&nbsp\;&nbsp\;&nbsp\;&nbsp\;&nbsp\;&nbsp\;&nbsp\;&nbsp\;&nbsp\;&nbsp\;&nbsp\;&nbsp\;&nbsp\;&nbsp\;&nbsp\;&nbsp\;&nbsp\;&nbsp\;&nbsp\;&nbsp\;&nbsp\;&nbsp\;&nbsp\;&nbsp\;&nbsp\;&nbsp\;<span style="font-family:times new roman\;">&nbsp\; &nbsp\;</span>&nbsp\;&nbsp\;&nbsp\;&nbsp\;&nbsp\;&nbsp\;&nbsp\;&nbsp\;&nbsp\;&nbsp\;&nbsp\;&nbsp\;&nbsp\;&nbsp\;&nbsp\;&nbsp\;&nbsp\;&nbsp\;&nbsp\;<span style="font-family:times new roman\;">&nbsp\;Tour of Bayshore Park!</span><br />\n<br />\n&nbsp\;&nbsp\;&nbsp\;&nbsp\;&nbsp\;&nbsp\;&nbsp\;&nbsp\;&nbsp\;&nbsp\;&nbsp\;&nbsp\;&nbsp\;&nbsp\;&nbsp\;&nbsp\;&nbsp\;&nbsp\;&nbsp\;&nbsp\;&nbsp\;&nbsp\;&nbsp\;&nbsp\;&nbsp\;&nbsp\;&nbsp\;&nbsp\;&nbsp\;&nbsp\;&nbsp\;&nbsp\;&nbsp\;&nbsp\;&nbsp\;&nbsp\;&nbsp\;&nbsp\;&nbsp\;&nbsp\;&nbsp\;&nbsp\;&nbsp\;&nbsp\;&nbsp\;&nbsp\;&nbsp\;&nbsp\;&nbsp\;&nbsp\;&nbsp\;&nbsp\;&nbsp\;&nbsp\;&nbsp\;&nbsp\;&nbsp\;&nbsp\;&nbsp\;&nbsp\;&nbsp\;&nbsp\;&nbsp\;&nbsp\;&nbsp\;&nbsp\;&nbsp\;&nbsp\;&nbsp\;&nbsp\;&nbsp\;&nbsp\;&nbsp\;&nbsp\;&nbsp\;&nbsp\;<span style="font-size:12px\;"><span style="font-family:times new roman\;"><strong data-end="444" data-start="396"><u>Speakers:&nbsp\;</u></strong></span></span><br />\n&nbsp\; &nbsp\; &nbsp\; &nbsp\; &nbsp\; &nbsp\; &nbsp\; &nbsp\; &nbsp\; &nbsp\; &nbsp\; &nbsp\; &nbsp\; &nbsp\; &nbsp\; &nbsp\; &nbsp\; &nbsp\; &nbsp\; &nbsp\; &nbsp\; &nbsp\; &nbsp\; &nbsp\;&nbsp\;&nbsp\;&nbsp\;&nbsp\;&nbsp\;&nbsp\;&nbsp\;&nbsp\;&nbsp\;&nbsp\;&nbsp\;&nbsp\;&nbsp\;&nbsp\;&nbsp\;&nbsp\;&nbsp\;&nbsp\;&nbsp\;&nbsp\;&nbsp\;&nbsp\;&nbsp\;&nbsp\;&nbsp\;<span style="font-family:times new roman\;">Amy Knowles<br />\n&nbsp\; &nbsp\; &nbsp\; &nbsp\; &nbsp\; &nbsp\; &nbsp\; &nbsp\; &nbsp\; &nbsp\; &nbsp\; &nbsp\; &nbsp\; &nbsp\; &nbsp\; &nbsp\; &nbsp\; &nbsp\; &nbsp\; &nbsp\; &nbsp\; &nbsp\;</span>&nbsp\;&nbsp\;&nbsp\;&nbsp\;&nbsp\;&nbsp\;&nbsp\;&nbsp\;&nbsp\;&nbsp\;&nbsp\;&nbsp\;&nbsp\;&nbsp\;&nbsp\;&nbsp\;<span style="font-family:times new roman\;">Chief Resilience Officer and Director<br />\n&nbsp\; &nbsp\; &nbsp\; &nbsp\; &nbsp\; &nbsp\; &nbsp\; &nbsp\; &nbsp\; &nbsp\; &nbsp\; &nbsp\; &nbsp\; &nbsp\; &nbsp\; &nbsp\; &nbsp\; &nbsp\; &nbsp\; &nbsp\; &nbsp\; &nbsp\; &nbsp\; &nbsp\; &nbsp\; &nbsp\; &nbsp\;&nbsp\;</span>&nbsp\;&nbsp\;&nbsp\;&nbsp\;&nbsp\;&nbsp\;&nbsp\;&nbsp\;&nbsp\;&nbsp\;&nbsp\;&nbsp\;&nbsp\;&nbsp\;&nbsp\;&nbsp\;&nbsp\;&nbsp\;&nbsp\;&nbsp\;<span style="font-family:times new roman\;">City of Miami Beach&nbsp\;</span><br />\n<br />\n<span style="font-size:12px\;"><span style="font-family:times new roman\;"><strong>Mission Statement:</strong>&nbsp\;<span id="docs-internal-guid-a5a83557-7fff-9e73-74b1-9393117c5b27"><span style="color: rgb(26\, 26\, 26)\; font-variant-numeric: normal\; font-variant-east-asian: normal\; font-variant-alternates: normal\; font-variant-position: normal\; font-variant-emoji: normal\; vertical-align: baseline\; text-wrap-mode: wrap\;">The Task Force will focus on enhancing dialog between city government\, Miami Beach citizens and Chamber leadership on the topic of sustainability and resiliency. Through education\, risk analysis\, economic considerations\, insurance risks\, consideration of new technologies and local contexts\, the committee seeks solutions with the objective of framing a well-balanced process that is ongoing and will continue to address challenges to the Coastal Community of Miami Beach and its government\, citizens and to the business community. The task force will formulate a more consistent platform for dialog on the important topics related to sustainability and resiliency and follow the 100 Resilient Cities Rockefeller Foundation initiative\, as it explores the following four dimensions to sustainability and resilience: Health &amp\; Wellbeing\; Economy &amp\; Society\; Infrastructure &amp\; Environment\; and Leadership &amp\; Strategy.</span></span></span></span></p>\n\n<p data-end="489" data-start="448">&nbsp\;</p>\n\n<p data-end="489" data-start="448">&nbsp\;</p>\n\n<p data-end="489" data-start="448">&nbsp\;</p>\n\n<p data-end="489" data-start="448"><span style="font-family:times new roman\;"><span style="font-size:11px\;"><span style="font-size:12px\;"><!--EndFragment--><!--EndFragment--></span></span></span></p>\n\n<p data-end="605" data-start="523"><span style="font-family:times new roman\;"><span style="font-size:11px\;"><span style="font-size:12px\;">For any questions\, feel free to reach out to <strong data-end="602" data-start="568"><a data-end="600" data-start="570" rel="noopener">programs@miamibeachchamber.com</a></strong>.</span></span></span></p>\n\n<p data-end="645" data-start="607"><span style="font-family:times new roman\;"><span style="font-size:11px\;"><span style="font-size:12px\;">Looking forward to seeing you there!</span></span></span></p>\n\n<p data-end="645" data-start="607">&nbsp\;</p>\n\n<p data-end="645" data-start="607">&nbsp\;</p>\n\n<p data-end="645" data-start="607">&nbsp\;</p>\n
LOCATION:There is parking available directly under our building with spots labeled\, "Chamber Staff." If this lot is filled\, there is a City garage down the street at 640 17th Street.
UID:e.166.85247
SEQUENCE:3
DTSTAMP:20260420T214609Z
URL:https://business.miamibeachchamber.com/events/details/mbcc-resiliency-sustainability-council-85247
END:VEVENT

END:VCALENDAR
