BEGIN:VCALENDAR
VERSION:2.0
PRODID:-//ChamberMaster//Event Calendar 2.0//EN
METHOD:PUBLISH
X-PUBLISHED-TTL:P3D
REFRESH-INTERVAL:P3D
CALSCALE:GREGORIAN
BEGIN:VEVENT
DTSTART:20190910T120000Z
DTEND:20190910T130000Z
X-MICROSOFT-CDO-ALLDAYEVENT:FALSE
SUMMARY:Real Estate Council Monthly Meeting
DESCRIPTION:On behalf of Council Chair Mirielle Enlow\, Keller Williams\, please join us for our monthly Real Estate Council meeting on the second Tuesday of every month from 8:00 am - 9:00 am.\n\n\n\nCouncil Chair Mirielle Enlow and our active\, sitting Council members will have exciting and helpful news to share about the local real estate and related industries.\n\n\n\n\n\n \n\nThe mission of the Real Estate Council is to act as a resource to members of the Miami Beach Chamber of Commerce who serve the local real estate community.  We will support our members by sharing expertise\, offering guidance and knowledge\, exploring new educational opportunities and facilitating communication within the industry and community.  Miami Beach real estate faces unique challenges and The Council provides the resources to enable development of unique solutions.  By sharing resources everyone in our industry and community achieves more.
X-ALT-DESC;FMTTYPE=text/html:<div style="text-align: center\;"><span style="font-size: 16px\;"><span style="font-family: arial\;">On behalf of </span></span><span style="font-family: arial\; font-size: 16px\; text-align: center\;"><strong>Council Chair Mirielle Enlow\,</strong> <em>Keller Williams</em>\, p</span><span style="font-size: 16px\;"><span style="font-family: arial\;">lease join us for our monthly Real Estate Council meeting on the second Tuesday of every month from 8:00 am - 9:00 am.<br />\n<br />\nCouncil Chair Mirielle Enlow and our active\, sitting Council members will have exciting and helpful news to share about the local real estate and related industries.</span></span><br />\n<br />\n<br />\n&nbsp\;</div>\n\n<div>The mission of the Real Estate Council is to act as a resource to members of the Miami Beach Chamber of Commerce who serve the local real estate community.&nbsp\; We will support our members by sharing expertise\, offering guidance and knowledge\, exploring new educational opportunities and facilitating communication within the industry and community.&nbsp\; Miami Beach real estate faces unique challenges and The Council provides the resources to enable development of unique solutions.&nbsp\; By sharing resources everyone in our industry and community achieves more.&nbsp\;</div>\n
LOCATION:Miami Beach Chamber Boardroom 1920 Meridian Avenue\, 3rd Floor Miami Beach\, FL 33139
UID:e.166.10048
SEQUENCE:3
DTSTAMP:20260423T085732Z
URL:https://business.miamibeachchamber.com/events/details/mbcc-real-estate-council-monthly-meeting-09-10-2019-10048
END:VEVENT

END:VCALENDAR
