BEGIN:VCALENDAR
VERSION:2.0
PRODID:-//ChamberMaster//Event Calendar 2.0//EN
METHOD:PUBLISH
X-PUBLISHED-TTL:P3D
REFRESH-INTERVAL:P3D
CALSCALE:GREGORIAN
BEGIN:VEVENT
DTSTART:20190409T120000Z
DTEND:20190409T130000Z
X-MICROSOFT-CDO-ALLDAYEVENT:FALSE
SUMMARY:Real Estate Council Monthly Meeting
DESCRIPTION:Please join us for our monthly Real Estate Council meeting on the second Tuesday of every month from 8:00 am - 9:00 am.\n\n\n\nCouncil Chair Mirielle Enlow and our active\, sitting Council members will have exciting and helpful news to share about the local real estate and related industries.\n\n\n\nThis month we are meeting at the \n\n\n\nKimpton Angler's Hotel\n\n660 Washington Avenue\, Miami Beach FL 33139\n\n\n\n\n\nSpecial Guest Speaker\n\n\n\nPedro J. Garcia\, MNAA   |   Miami Dade County Property Appraiser\n\n\n\non the topics of \n\n\n\nAirbnb\, Homestead Fraud\, Portability and PACE Programs.\n\n\n\n\n\nParking\n\nReduced Valet sponsored by the Kimpton Angler Hotel at $10
X-ALT-DESC;FMTTYPE=text/html:<div style="text-align: center\;"><span style="font-size: 16px\;"><span style="font-family: arial\;"><span style="font-size:14px\;">Please join us for our monthly Real Estate Council meeting on the second Tuesday of every month from 8:00 am - 9:00 am.<br />\n<br />\nCouncil Chair Mirielle Enlow and our active\, sitting Council members will have exciting and helpful news to share about the local real estate and related industries.<br />\n<br />\nThis month we are meeting at the&nbsp\;</span></span></span><br />\n<br />\n<strong><span style="font-size:20px\;">Kimpton Angler&#39\;s Hotel</span></strong><br />\n<span style="font-size:18px\;">660 Washington Avenue\, Miami Beach&nbsp\;FL 33139</span><br />\n<br />\n<br />\n<u>Special Guest Speaker</u><br />\n<br />\n<span style="font-size:20px\;">Pedro J. Garcia\, MNAA&nbsp\; &nbsp\;|&nbsp\; &nbsp\;Miami Dade County Property Appraiser</span><br />\n<br />\non the topics of&nbsp\;<br />\n<br />\n<span style="font-size:20px\;">Airbnb\, Homestead Fraud\, Portability and PACE Programs.<br />\n<br />\n<br />\n<u><span style="font-size:18px\;">Parking</span></u><br />\n<span style="font-size:14px\;">Reduced Valet sponsored by the Kimpton Angler Hotel&nbsp\;at $10</span></span><br />\n<br />\n&nbsp\;</div>\n
LOCATION:Kimpton Angler's Hotel 660 Washington Ave\, Miami Beach\, FL 33139
UID:e.166.10043
SEQUENCE:3
DTSTAMP:20260422T131511Z
URL:https://business.miamibeachchamber.com/events/details/mbcc-real-estate-council-monthly-meeting-04-09-2019-10043
END:VEVENT

END:VCALENDAR
