BEGIN:VCALENDAR
VERSION:2.0
PRODID:-//ChamberMaster//Event Calendar 2.0//EN
METHOD:PUBLISH
X-PUBLISHED-TTL:P3D
REFRESH-INTERVAL:P3D
CALSCALE:GREGORIAN
BEGIN:VEVENT
DTSTART:20200114T130000Z
DTEND:20200114T140000Z
X-MICROSOFT-CDO-ALLDAYEVENT:FALSE
SUMMARY:Real Estate Council Meeting
DESCRIPTION:On behalf of Council Co-Chairs Mirielle Enlow\, Keller Williams\, and Juan Carlos Ramirez\, NMR Design Group please join us for our monthly Real Estate Council meeting every 2nd Tuesday from 8:00 AM - 9:00 AM.\n\nMeet Your Miami Beach Commissioner\n\n\n\nCommissioner David Richardson\n\n\n\nHe will discuss his platform regarding development and the real estate industry on Miami Beach.\n\nQ& A to follow.\n\n \n\n\n\n\n \n\nReal Estate Council Mission Statement\n\n\n\nOur mission is to act as a resource to members of the Miami Beach Chamber of Commerce who serve the local Real Estate community. We will support our members by sharing expertise\, offering guidance and knowledge\, exploring new educational opportunities and facilitating communication within the industry and community. Miami Real Estate faces unique challenges and The Council provides the resources to enable the development of unique solutions. By sharing resources everyone in our industry and community achieves more\n\n.\n\n\n\nFor more information regarding the Real Estate Council\, please contact Council Liaison Danny Diaz 305-674-1300 EXT 3190 or danny@miamibeachchamber.com.\n\n\n\nParking\n\nPublic parking is available at the 17th Street Garage. We encourage you to rideshare! You can use the Uride or Ride Freebee apps or Swoop for free transportation to certain locations.
X-ALT-DESC;FMTTYPE=text/html:<div>On behalf of Council Co-Chairs Mirielle Enlow\, <em>Keller Williams</em>\, and Juan Carlos Ramirez\, <em>NMR Design Group</em> please join us for our monthly Real Estate Council meeting every 2nd Tuesday from 8:00 AM - 9:00 AM.</div>\n\n<div style="text-align: center\;">Meet Your Miami Beach Commissioner<br />\n<br />\n<strong>Commissioner David Richardson</strong><br />\n<br />\nHe will discuss his platform regarding development and the real estate industry on Miami Beach.<br />\nQ&amp\; A to follow.<br />\n&nbsp\;</div>\n\n<div style="text-align: center\;">\n<hr /></div>\n\n<div>&nbsp\;</div>\n\n<div style="text-align: center\;"><strong>Real Estate Council Mission Statement</strong></div>\n\n<div><br />\nOur mission is to act as a resource to members of the Miami Beach Chamber of Commerce who serve the local Real Estate community. We will support our members by sharing expertise\, offering guidance and knowledge\, exploring new educational opportunities and facilitating communication within the industry and community. Miami Real Estate faces unique challenges and The Council provides the resources to enable the development of unique solutions. By sharing resources everyone in our industry and community achieves more<br />\n.</div>\n\n<div style="text-align: center\;"><br />\nFor more information regarding the Real Estate Council\, please contact Council Liaison&nbsp\;Danny Diaz 305-674-1300 EXT 3190 or danny@miamibeachchamber.com.<br />\n<br />\n<strong style="font-family: arial\; font-size: 14px\; text-align: center\;"><u>Parking</u></strong><br style="font-family: arial\; font-size: 14px\; text-align: center\;" />\n<span style="font-family: arial\; font-size: 14px\; text-align: center\;">Public parking is available at the 17th Street Garage. We encourage you to rideshare! You can use the&nbsp\;</span><strong style="font-family: arial\; font-size: 14px\; text-align: center\;"><span style="color: rgb(0\, 0\, 205)\;">Uride&nbsp\;</span></strong><span style="font-family: arial\; font-size: 14px\; text-align: center\;">or&nbsp\;</span><strong style="font-family: arial\; font-size: 14px\; text-align: center\;"><span style="color: rgb(0\, 0\, 205)\;">Ride Freebee</span></strong><span style="font-family: arial\; font-size: 14px\; text-align: center\;">&nbsp\;apps or&nbsp\;</span><strong style="font-family: arial\; font-size: 14px\; text-align: center\;"><span style="color: rgb(0\, 0\, 205)\;">Swoop&nbsp\;</span></strong><span style="font-family: arial\; font-size: 14px\; text-align: center\;">for free transportation to certain locations.</span></div>\n\n<div style="text-align: center\;">&nbsp\;</div>\n\n<div>&nbsp\;</div>\n
LOCATION:Miami Beach Chamber Boardroom 1920 Meridian Avenue\, 3rd Floor Miami Beach\, FL 33139
UID:e.166.10052
SEQUENCE:3
DTSTAMP:20260423T062313Z
URL:https://business.miamibeachchamber.com/events/details/mbcc-real-estate-council-monthly-meeting-01-14-2020-10052
END:VEVENT

END:VCALENDAR
