BEGIN:VCALENDAR
VERSION:2.0
PRODID:-//ChamberMaster//Event Calendar 2.0//EN
METHOD:PUBLISH
X-PUBLISHED-TTL:P3D
REFRESH-INTERVAL:P3D
CALSCALE:GREGORIAN
BEGIN:VEVENT
DTSTART:20191031T210000Z
DTEND:20191101T090000Z
X-MICROSOFT-CDO-ALLDAYEVENT:FALSE
SUMMARY:Mango's Tropical Cafe - Halloween Nite Spooktacular
DESCRIPTION:It's that time of the year again when Mango's Tropical Cafe becomes SPOOKTACULAR! Our favorite time of the year...\n\n\n\nOUR HALLOWEEN NIGHT IS A FREE EVENT UNTIL 9 PM! \n\n\n\nFor RESERVATIONS GO TO www.mangos.com\n\n\n\nVIP TABLES STARTING AT $250 \n\n-Black Label\n\n-Chivas Regal\n\n-1800 Silver\n\n-Grey Goose \n\n\n\nGENERAL CONTACT INFORMATION: \n\n305-673-4422 \n\nEventsSobe@Mangos.com\n\n900 Ocean Drive\n\nMiami Beach\, Fl 33029
X-ALT-DESC;FMTTYPE=text/html:<span style="color:rgb(29\, 33\, 41)\; font-family:system-ui\,-apple-system\,blinkmacsystemfont\,.sfnstext-regular\,sans-serif\; font-size:14px">It&#39\;s that time of the year again when Mango&#39\;s Tropical Cafe becomes SPOOKTACULAR! Our favorite time of the year...</span><br />\n<br />\n<span style="color:rgb(29\, 33\, 41)\; font-family:system-ui\,-apple-system\,blinkmacsystemfont\,.sfnstext-regular\,sans-serif\; font-size:14px">OUR HALLOWEEN NIGHT IS A FREE EVENT UNTIL 9 PM! </span><br />\n<br />\n<span style="color:rgb(29\, 33\, 41)\; font-family:system-ui\,-apple-system\,blinkmacsystemfont\,.sfnstext-regular\,sans-serif\; font-size:14px">For RESERVATIONS GO TO </span><a href="https://l.facebook.com/l.php?u=http%3A%2F%2Fwww.mangos.com%2F%3Ffbclid%3DIwAR1lixFpMPeFLRKJgTtpNceRR_ItH3In0_AEHA7NBb_a9JLWirseB12UYfA&amp\;h=AT0_9W97ytwDLWdjxgtRsr72UXf6SjA07jift_f9udUbSswsnUTKvnZ67-wd51i3OVGi7CbEYYef-FjOLMKAmdFfYkQwpqdkQw4kzxwhzOkVFWxsmBJ84UT_PwUAq8J3A80rUrTOfnIn7KCrOXwTaZ_i0g" rel="nofollow noopener" style="color: rgb(56\, 88\, 152)\; cursor: pointer\; text-decoration: none\; font-family: system-ui\, -apple-system\, BlinkMacSystemFont\, &quot\;.SFNSText-Regular&quot\;\, sans-serif\; font-size: 14px\; white-space: pre-wrap\;" target="_blank">www.mangos.com</a><br />\n<br />\n<span style="color:rgb(29\, 33\, 41)\; font-family:system-ui\,-apple-system\,blinkmacsystemfont\,.sfnstext-regular\,sans-serif\; font-size:14px">VIP TABLES STARTING AT $250 </span><br />\n<span style="color:rgb(29\, 33\, 41)\; font-family:system-ui\,-apple-system\,blinkmacsystemfont\,.sfnstext-regular\,sans-serif\; font-size:14px">-Black Label</span><br />\n<span style="color:rgb(29\, 33\, 41)\; font-family:system-ui\,-apple-system\,blinkmacsystemfont\,.sfnstext-regular\,sans-serif\; font-size:14px">-Chivas Regal</span><br />\n<span style="color:rgb(29\, 33\, 41)\; font-family:system-ui\,-apple-system\,blinkmacsystemfont\,.sfnstext-regular\,sans-serif\; font-size:14px">-1800 Silver</span><br />\n<span style="color:rgb(29\, 33\, 41)\; font-family:system-ui\,-apple-system\,blinkmacsystemfont\,.sfnstext-regular\,sans-serif\; font-size:14px">-Grey Goose </span><br />\n<br />\n<span style="color:rgb(29\, 33\, 41)\; font-family:system-ui\,-apple-system\,blinkmacsystemfont\,.sfnstext-regular\,sans-serif\; font-size:14px">GENERAL CONTACT INFORMATION: </span><br />\n<span style="color:rgb(29\, 33\, 41)\; font-family:system-ui\,-apple-system\,blinkmacsystemfont\,.sfnstext-regular\,sans-serif\; font-size:14px">305-673-4422 </span><br />\n<span style="color:rgb(29\, 33\, 41)\; font-family:system-ui\,-apple-system\,blinkmacsystemfont\,.sfnstext-regular\,sans-serif\; font-size:14px">EventsSobe@Mangos.com</span><br />\n<span style="color:rgb(29\, 33\, 41)\; font-family:system-ui\,-apple-system\,blinkmacsystemfont\,.sfnstext-regular\,sans-serif\; font-size:14px">900 Ocean Drive</span><br />\n<span style="color:rgb(29\, 33\, 41)\; font-family:system-ui\,-apple-system\,blinkmacsystemfont\,.sfnstext-regular\,sans-serif\; font-size:14px">Miami Beach\, Fl 33029</span>
LOCATION:Mango's Tropical Cafe 900 Ocean Dr\, Miami Beach\, FL 33139
UID:e.166.44479
SEQUENCE:3
DTSTAMP:20260423T103450Z
URL:https://business.miamibeachchamber.com/events/details/mango-s-tropical-cafe-halloween-nite-spooktacular-44479
END:VEVENT

END:VCALENDAR
