BEGIN:VCALENDAR
VERSION:2.0
PRODID:-//ChamberMaster//Event Calendar 2.0//EN
METHOD:PUBLISH
X-PUBLISHED-TTL:P3D
REFRESH-INTERVAL:P3D
CALSCALE:GREGORIAN
BEGIN:VEVENT
DTSTART:20181110T160000Z
DTEND:20181111T000000Z
X-MICROSOFT-CDO-ALLDAYEVENT:FALSE
SUMMARY:Macy's South Beach In-Store Hiring Event
DESCRIPTION:Macy's Seasonal Hiring Event at Macy's South Beach\n\nSaturday\, Nov 10th - 11:00 a.m. to 7:00 p.m.!\n\nMacy's will be conducting on-the-spot interviews and extending job offers for open seasonal support position.\n\nPlease click the link below to sign up for the Hiring Event.\n\nhttps://www.macysjobs.com/job-description/?jobnumber=717103773
X-ALT-DESC;FMTTYPE=text/html:Macy&#39\;s Seasonal Hiring Event at Macy&#39\;s South Beach<br />\nSaturday\, Nov 10th - 11:00 a.m. to 7:00 p.m.!<br />\nMacy&#39\;s will be conducting on-the-spot interviews and extending job offers for open seasonal support position.<br />\nPlease click the link below to sign up for the Hiring Event.<br />\nhttps://www.macysjobs.com/job-description/?jobnumber=717103773
LOCATION:Macy's South Beach - 1675 Meridian Ave\, Miami Beach\, FL 33139
UID:e.166.39321
SEQUENCE:3
DTSTAMP:20260422T001721Z
URL:https://business.miamibeachchamber.com/events/details/macy-s-south-beach-in-store-hiring-event-39321
END:VEVENT

END:VCALENDAR
