BEGIN:VCALENDAR
VERSION:2.0
PRODID:-//ChamberMaster//Event Calendar 2.0//EN
METHOD:PUBLISH
X-PUBLISHED-TTL:P3D
REFRESH-INTERVAL:P3D
CALSCALE:GREGORIAN
BEGIN:VEVENT
DTSTART:20181206T160000Z
DTEND:20181207T000000Z
X-MICROSOFT-CDO-ALLDAYEVENT:FALSE
SUMMARY:Macy's Seasonal Hiring Event at Macy's South Beach
DESCRIPTION:Macy's Seasonal Hiring Event at Macy's South Beach\n\nThursday\, Dec 6th - 11:00 a.m. to 7:00 p.m.!\n\nMacy's will be conducting on-the-spot interviews and extending job offers for open seasonal support position.\n\nPlease click the link below to sign up for the Hiring Event.\n\nhttps://www.macysjobs.com/job-description/?jobnumber=717103773
X-ALT-DESC;FMTTYPE=text/html:Macy&#39\;s Seasonal Hiring Event at Macy&#39\;s South Beach<br />\nThursday\, Dec 6th - 11:00 a.m. to 7:00 p.m.!<br />\nMacy&#39\;s will be conducting on-the-spot interviews and extending job offers for open seasonal support position.<br />\nPlease click the link below to sign up for the Hiring Event.<br />\nhttps://www.macysjobs.com/job-description/?jobnumber=717103773
LOCATION:Macy's South Beach - 1675 Meridian Ave\, Miami Beach\, FL 33139
UID:e.166.39451
SEQUENCE:3
DTSTAMP:20260421T232915Z
URL:https://business.miamibeachchamber.com/events/details/macy-s-seasonal-hiring-event-at-macy-s-south-beach-39451
END:VEVENT

END:VCALENDAR
