BEGIN:VCALENDAR
VERSION:2.0
PRODID:-//ChamberMaster//Event Calendar 2.0//EN
METHOD:PUBLISH
X-PUBLISHED-TTL:P3D
REFRESH-INTERVAL:P3D
CALSCALE:GREGORIAN
BEGIN:VEVENT
DTSTART:20191016T163000Z
DTEND:20191016T180000Z
X-MICROSOFT-CDO-ALLDAYEVENT:FALSE
SUMMARY:Lunch at MILOS with Live Ultimate Founder on HOW TO LIVE YOUR BEST LIFE POSSIBLE
DESCRIPTION:Lunch with Live Ultimate Founder and CEO Marc Wachter Tickets\, Weds Oct 16\, 2019 at 12:30 PM | Eventbrite https://www.eventbrite.com/e/lunch-with-live-ultimate-founder-and-ceo-marc-wachter-tickets-75780466415
X-ALT-DESC;FMTTYPE=text/html:Lunch with Live Ultimate Founder and CEO Marc Wachter Tickets\, Weds Oct 16\, 2019 at 12:30 PM | Eventbrite https://www.eventbrite.com/e/lunch-with-live-ultimate-founder-and-ceo-marc-wachter-tickets-75780466415
LOCATION:MILOS 730 1st street Miami Beach\, Fl 33139
UID:e.166.44062
SEQUENCE:3
DTSTAMP:20260423T103854Z
URL:https://business.miamibeachchamber.com/events/details/lunch-at-milos-with-live-ultimate-founder-on-how-to-live-your-best-life-possible-44062
END:VEVENT

END:VCALENDAR
