BEGIN:VCALENDAR
VERSION:2.0
PRODID:-//ChamberMaster//Event Calendar 2.0//EN
METHOD:PUBLISH
X-PUBLISHED-TTL:P3D
REFRESH-INTERVAL:P3D
CALSCALE:GREGORIAN
BEGIN:VEVENT
DTSTART:20200123T170000Z
DTEND:20200123T190000Z
X-MICROSOFT-CDO-ALLDAYEVENT:FALSE
SUMMARY:Lunch at MILOS with Author/Speaker and Entrepreneur Jeffrey Meshel
DESCRIPTION:Live Ultimate is putting on an educational lunch at MILOS with Jeffrey Meshel. Jeff is the author of One Phone Call Away\, The Opportunity Magnet and his latest book is TRUST Is A Double Edge Sword. Come and enjoy a beautiful 3-course lunch and listen to Jeff speak on Opportunity and Trust in all aspects of life. You will leave this lunch with many new insights. We look forward to seeing you there.\n\nLunch is $29 plus tip and tax.\n\nPlease register at Eventbrite: https://www.eventbrite.com/e/lunch-at-milos-with-authorspeaker-and-entrepreneur-jeffrey-meshel-you-will-leave-with-a-wow-tickets-89470951023
X-ALT-DESC;FMTTYPE=text/html:<p>Live Ultimate is putting on an educational lunch at MILOS with Jeffrey Meshel.&nbsp\;Jeff&nbsp\;is the author of One Phone Call Away\, <u>The Opportunity Magnet</u> and his latest book is <u>TRUST Is A&nbsp\;Double Edge Sword</u>. Come and enjoy a beautiful 3-course lunch and listen to Jeff speak on <u>Opportunity</u> and <u>Trust </u>in all aspects of life. You will leave this lunch with many new insights. We look forward to seeing you there.</p>\n\n<p>Lunch is $29 plus tip and tax.</p>\n\n<p>Please register at Eventbrite:&nbsp\;<a href="https://www.eventbrite.com/e/lunch-at-milos-with-authorspeaker-and-entrepreneur-jeffrey-meshel-you-will-leave-with-a-wow-tickets-89470951023">https://www.eventbrite.com/e/lunch-at-milos-with-authorspeaker-and-entrepreneur-jeffrey-meshel-you-will-leave-with-a-wow-tickets-89470951023</a></p>\n
LOCATION:MILOS 730 1st street
UID:e.166.48017
SEQUENCE:3
DTSTAMP:20260423T062214Z
URL:https://business.miamibeachchamber.com/events/details/lunch-at-milos-with-author-speaker-and-entrepreneur-jeffrey-meshel-48017
END:VEVENT

END:VCALENDAR
