BEGIN:VCALENDAR
VERSION:2.0
PRODID:-//ChamberMaster//Event Calendar 2.0//EN
METHOD:PUBLISH
X-PUBLISHED-TTL:P3D
REFRESH-INTERVAL:P3D
CALSCALE:GREGORIAN
BEGIN:VEVENT
DTSTART:20191212T230000Z
DTEND:20191213T010000Z
X-MICROSOFT-CDO-ALLDAYEVENT:FALSE
SUMMARY:Luminosa with the Chamber
DESCRIPTION:Join us as we enjoy a captivating Chinese Lantern Festival and a uniquely Miami nighttime experience.\n\n\n\n*Ticket includes Admission Only
X-ALT-DESC;FMTTYPE=text/html:Join us as we enjoy a captivating Chinese Lantern Festival and a uniquely Miami nighttime experience.<br />\n<br />\n*Ticket includes Admission Only
LOCATION:Jungle Island 1111 Parrot Jungle Trail\, Miami\, FL 33132
UID:e.166.47524
SEQUENCE:3
DTSTAMP:20260419T170234Z
URL:https://business.miamibeachchamber.com/events/details/luminosa-with-the-chamber-47524
END:VEVENT

END:VCALENDAR
