BEGIN:VCALENDAR
VERSION:2.0
PRODID:-//ChamberMaster//Event Calendar 2.0//EN
METHOD:PUBLISH
X-PUBLISHED-TTL:P3D
REFRESH-INTERVAL:P3D
CALSCALE:GREGORIAN
BEGIN:VEVENT
DTSTART:20190127T220000Z
DTEND:20190128T040000Z
X-MICROSOFT-CDO-ALLDAYEVENT:FALSE
SUMMARY:Local Sunday at Tanuki
DESCRIPTION:
X-ALT-DESC;FMTTYPE=text/html:
LOCATION:
UID:e.166.38274
SEQUENCE:3
DTSTAMP:20260421T101503Z
URL:https://business.miamibeachchamber.com/events/details/local-sunday-at-tanuki-01-27-2019-38274
END:VEVENT

END:VCALENDAR
