BEGIN:VCALENDAR
VERSION:2.0
PRODID:-//ChamberMaster//Event Calendar 2.0//EN
METHOD:PUBLISH
X-PUBLISHED-TTL:P3D
REFRESH-INTERVAL:P3D
CALSCALE:GREGORIAN
BEGIN:VEVENT
DTSTART:20191022T230000Z
DTEND:20191023T000000Z
X-MICROSOFT-CDO-ALLDAYEVENT:FALSE
SUMMARY:LIVE@Frost Science: Saving Our World’s Sharks
DESCRIPTION:What are we learning from the world's largest coral reef shark survey? In this next edition of LIVE@Frost Science\, the museum will welcome molecular ecologist Dr. Demian Chapman\, a lead scientist behind Global FinPrint\, the world's largest reef shark and ray survey. Dr. Chapman\, an associate professor at Florida International University\, is an internationally recognized shark expert and has published papers on shark genetics\, virgin births\, the shark fin trade\, and shark tracking\, among other topics. Global FinPrint was launched in 2015 as the first global survey of its kind\, deploying baited remote underwater video stations (BRUVS) to learn more about the worldwide status of sharks on coral reefs and to identify new opportunities for their conservation.
X-ALT-DESC;FMTTYPE=text/html:<span style="color:#222222"><span style="font-family:avenir book"><span style="font-size:9.0pt">What are we learning from the world&rsquo\;s largest coral reef shark survey? In this next edition of </span></span></span><span style="color:#0099ff"><span style="font-family:avenir book"><span style="font-size:9.0pt"><strong>LIVE@Frost Science</strong></span></span></span><span style="color:#222222"><span style="font-family:avenir book"><span style="font-size:9.0pt">\, the museum will welcome molecular ecologist Dr. Demian Chapman\, a lead scientist behind Global FinPrint\, the world&rsquo\;s largest reef shark and ray survey. Dr. Chapman\, an associate professor at Florida International University\, is an internationally recognized shark expert and has published papers on shark genetics\, virgin births\, the shark fin trade\, and shark tracking\, among other topics. Global FinPrint was launched in 2015 as the first global survey of its kind\, deploying baited remote underwater video stations (BRUVS) to learn more about the worldwide status of sharks on coral reefs and to identify new opportunities for their conservation.</span></span></span>
LOCATION:Phillip and Patricia Frost Museum of Science at 1101 Biscayne Blvd\, Miami\, FL 33132
UID:e.166.44059
SEQUENCE:3
DTSTAMP:20260423T103405Z
URL:https://business.miamibeachchamber.com/events/details/live-frost-science-saving-our-world-s-sharks-44059
END:VEVENT

END:VCALENDAR
