BEGIN:VCALENDAR
VERSION:2.0
PRODID:-//ChamberMaster//Event Calendar 2.0//EN
METHOD:PUBLISH
X-PUBLISHED-TTL:P3D
REFRESH-INTERVAL:P3D
CALSCALE:GREGORIAN
BEGIN:VEVENT
DTSTART:20200130T230000Z
DTEND:20200131T010000Z
X-MICROSOFT-CDO-ALLDAYEVENT:FALSE
SUMMARY:Law Council Networker @ Seawell Fish N' Oyster
DESCRIPTION:Miami Beach Chamber Law Council Chairs Linsey Lovell (Pardo Jackson Gainsburg\, PL) and Morgan Ben-David (AXS Law Group) invites you to their monthly council meeting at \n\n\n\nSeawell Fish N' Oyster \n\n\n\nEnjoy one complimentary welcome drink and passed bites.\n\n \n\n\n\n\n\nLaw Council Mission Statement\n\n \nOur mission is to facilitate communication between and among the members of the legal community\, the Miami Beach Chamber of Commerce membership and the community at large in order to (a) increase awareness of the legal and business issues that impact individuals and businesses and (b) identify and create business opportunities between them.\n\n \nParking\nWe encourage you to rideshare! You can use the Uride or Ride Freebee apps or Swoop for free transportation to certain locations.
X-ALT-DESC;FMTTYPE=text/html:<div style="text-align: center\;">Miami Beach Chamber Law Council&nbsp\;Chairs Linsey Lovell (Pardo Jackson Gainsburg\, PL) and Morgan Ben-David (AXS Law Group) invites you to their monthly council meeting at&nbsp\;<br />\n<br />\n<span style="font-size:26px\;">Seawell Fish N&#39\; Oyster&nbsp\;</span><br />\n<br />\nEnjoy one complimentary welcome drink and passed bites.<br />\n&nbsp\;</div>\n\n<div>\n<hr />\n<div style="line-height: 20.8px\; text-align: center\;"><br />\n<strong><span style="font-family: arial\;"><span style="font-size: 16px\;"><span style="font-size: 14px\;">Law Council Mission Statement</span></span></span></strong><br />\n&nbsp\;</div>\n<span style="font-family: arial\;"><span style="font-size: 14px\;">Our mission is to facilitate communication between and among the members of the legal community\, the Miami Beach Chamber of Commerce membership and the community at large in order to (a) increase awareness of the legal and business issues that impact individuals and businesses and (b) identify and create business opportunities between them.</span></span><br />\n&nbsp\;\n<div style="text-align: center\;"><strong style="font-family: arial\; font-size: 14px\; text-align: center\;"><u>Parking</u></strong></div>\n<span style="font-family: arial\; font-size: 14px\; text-align: center\;">We encourage you to rideshare! You can use the&nbsp\;</span><strong style="font-family: arial\; font-size: 14px\; text-align: center\;"><span style="color: rgb(0\, 0\, 205)\;">Uride&nbsp\;</span></strong><span style="font-family: arial\; font-size: 14px\; text-align: center\;">or&nbsp\;</span><strong style="font-family: arial\; font-size: 14px\; text-align: center\;"><span style="color: rgb(0\, 0\, 205)\;">Ride Freebee</span></strong><span style="font-family: arial\; font-size: 14px\; text-align: center\;">&nbsp\;apps or&nbsp\;</span><strong style="font-family: arial\; font-size: 14px\; text-align: center\;"><span style="color: rgb(0\, 0\, 205)\;">Swoop&nbsp\;</span></strong><span style="font-family: arial\; font-size: 14px\; text-align: center\;">for free transportation to certain locations.</span></div>\n\n<div>&nbsp\;</div>\n
LOCATION:Seawell Fish N' Oyster 660 Washington Ave\, Miami Beach\, FL 33139
UID:e.166.47959
SEQUENCE:3
DTSTAMP:20260423T075046Z
URL:https://business.miamibeachchamber.com/events/details/law-council-networker-seawell-fish-n-oyster-47959
END:VEVENT

END:VCALENDAR
