BEGIN:VCALENDAR
VERSION:2.0
PRODID:-//ChamberMaster//Event Calendar 2.0//EN
METHOD:PUBLISH
X-PUBLISHED-TTL:P3D
REFRESH-INTERVAL:P3D
CALSCALE:GREGORIAN
BEGIN:VEVENT
DTSTART:20181127T230000Z
DTEND:20181128T010000Z
X-MICROSOFT-CDO-ALLDAYEVENT:FALSE
SUMMARY:Law Council Dinner at Fogo de Chão Miami
DESCRIPTION:The Miami Beach Chamber of Commerce's Law Council invites you to attend our \n\n\n\n November Networker & Dinner \n\nIn Lieu of The Meeting\n\n\n\nEnjoy an evening of dining and networking with your fellow Miami Beach legal professionals.\n\n\n\nCan't stay for dinner?  Join us from 6:00 - 7:00 for a cash bar happy hour featuring specialty drinks and bites. \n\n\n\n\n\nThree-Course Dinner with a glass of wine: $50.00\n\nCancellations with a full refund must be made 2 business days prior to the event.\n\n\n\n\n\nLocation\n\nFogo de Ch o Miami\n\n836 1st Street\n\nMiami Beach\, FL 33139\n\n\n\nDate & Time\n\nTuesday\, November 27\, 2018\n\n6:00 PM   8:00 PM\n\n\n\n\n\nParking\n\nMetered lot behind restaurant\, street parking and valet is available at the venue.\n\n\n\nWe encourage you to rideshare! Download the miRide app (use referral code mimbcc10) and 10% of all proceeds will benefit the Miami Beach Education Foundation. You can also use the Ride Freebee app for free transportation to certain locations\n\n\n\n\n\n\n\n \n\nFor more information or to RSVP email events@miamibeachchamber.com \n\nor call 305-674-1300 ext. 3010
X-ALT-DESC;FMTTYPE=text/html:<div style="margin: 0px\; padding: 0px\; border-radius: 0px\; border: currentColor\; border-image: none\; left: auto\; top: auto\; width: auto\; height: auto\; text-align: center\; right: auto\; bottom: auto\; color: rgb(68\, 68\, 68)\; line-height: 20.8px\; overflow: visible\; clear: none\; font-family: Arial\, Helvetica\, sans-serif\; font-size: 14px\; vertical-align: baseline\; float: none\; visibility: inherit\; border-collapse: separate\; position: static\; z-index: auto\; table-layout: auto\; direction: inherit\; -ms-word-break: inherit\; -ms-word-wrap: inherit\; -ms-text-overflow: clip\; max-height: none\; max-width: none\; content: normal\; box-sizing: content-box\; empty-cells: show\; font-stretch: inherit\; opacity: 1\; box-shadow: none\; background-image: none\; resize: none\; outline-offset: 0px\; font-variant-numeric: inherit\; font-variant-east-asian: inherit\;"><span style="font-size:22px\;">&nbsp\;<br />\n&nbsp\;<br />\n<span style="border:1pt none windowtext\;padding:0in\;background-image:initial\;background-position:initial\;background-size:initial\;background-repeat:initial\;background-attachment:initial\;background-origin:initial\;background-clip:initial\;">The Miami Beach Chamber of Commerce&#39\;s Law Council invites you to attend our&nbsp\;</span><br />\n<br />\n<strong><span style="font-size:24px\;"><span style="border:1pt none windowtext\;padding:0in\;background-image:initial\;background-position:initial\;background-size:initial\;background-repeat:initial\;background-attachment:initial\;background-origin:initial\;background-clip:initial\;">&nbsp\;November Networker&nbsp\;&amp\;&nbsp\;<span style="font-family:calibri\,sans-serif\;">Dinner&nbsp\;<br />\n<em><span style="font-size:14px\;">In Lieu of The Meeting</span></em></span></span></span></strong></span><br />\n<br />\n<span style="font-family: arial\; font-size: 20px\; text-align: center\;">Enjoy an evening of dining and networking with your fellow Miami Beach&nbsp\;legal&nbsp\;professionals.<br />\n<br />\nCan&#39\;t stay for dinner?&nbsp\; Join us from 6:00 - 7:00 for&nbsp\;a cash bar happy hour featuring specialty drinks and bites. </span><br />\n<br />\n<br />\n<span style="font-size:22px\;"><strong style="color: rgb(68\, 68\, 68)\; font-family: Arial\, Helvetica\, sans-serif\; font-size: 20px\; text-align: center\;"><span style="font-family: calibri\, sans-serif\;">Three-Course Dinner with a&nbsp\;glass of wine: $50.00</span></strong></span><br />\n<em style="color: inherit\; font-family: inherit\; font-size: inherit\; font-variant: inherit\; font-weight: inherit\; letter-spacing: inherit\; text-align: inherit\; text-indent: inherit\; text-transform: inherit\; white-space: inherit\; word-spacing: inherit\; background: none\; box-sizing: content-box\; margin: 0px\; padding: 0px\; border: none\; font-stretch: inherit\; line-height: inherit\; vertical-align: baseline\; bottom: auto\; clear: none\; content: normal\; direction: inherit\; display: inline\; empty-cells: show\; left: auto\; max-height: none\; max-width: none\; min-height: initial\; min-width: initial\; opacity: 1\; outline-offset: 0px\; overflow: visible\; position: static\; resize: none\; right: auto\; table-layout: auto\; text-overflow: clip\; top: auto\; visibility: inherit\; word-break: inherit\; overflow-wrap: inherit\; z-index: auto\; border-collapse: separate\; border-radius: 0px\; height: auto\; width: auto\; box-shadow: none\;"><span style="box-sizing: content-box\; margin: 0px\; padding: 0px\; border: none\; font-style: inherit\; font-variant: inherit\; font-weight: inherit\; font-stretch: inherit\; line-height: inherit\; vertical-align: baseline\; bottom: auto\; clear: none\; color: rgb(255\, 0\, 0)\; content: normal\; direction: inherit\; empty-cells: show\; left: auto\; letter-spacing: inherit\; max-height: none\; max-width: none\; min-height: initial\; min-width: initial\; opacity: 1\; outline-offset: 0px\; overflow: visible\; position: static\; resize: none\; right: auto\; table-layout: auto\; text-align: inherit\; text-indent: inherit\; text-overflow: clip\; text-transform: inherit\; top: auto\; visibility: inherit\; white-space: inherit\; word-break: inherit\; word-spacing: inherit\; overflow-wrap: inherit\; z-index: auto\; background: none\; border-collapse: separate\; border-radius: 0px\; height: auto\; width: auto\; box-shadow: none\;"><span style="box-sizing: content-box\; margin: 0px\; padding: 0px\; border: none\; font-style: inherit\; font-variant: inherit\; font-weight: bolder\; font-stretch: inherit\; line-height: inherit\; vertical-align: baseline\; bottom: auto\; clear: none\; color: inherit\; content: normal\; direction: inherit\; empty-cells: show\; left: auto\; letter-spacing: inherit\; max-height: none\; max-width: none\; min-height: initial\; min-width: initial\; opacity: 1\; outline-offset: 0px\; overflow: visible\; position: static\; resize: none\; right: auto\; table-layout: auto\; text-align: inherit\; text-indent: inherit\; text-overflow: clip\; text-transform: inherit\; top: auto\; visibility: inherit\; white-space: inherit\; word-break: inherit\; word-spacing: inherit\; overflow-wrap: inherit\; z-index: auto\; background: none\; border-collapse: separate\; border-radius: 0px\; height: auto\; width: auto\; box-shadow: none\;">Cancellations with a full refund must be made 2 business days prior to the event.</span></span></em><br />\n<br />\n<br />\n<span style="font-size:20px\;"><u><strong>Location</strong></u></span><br />\n<span style="font-size:16px\;">Fogo de Ch&atilde\;o Miami</span><br />\n<span style="font-size:22px\;"><span style="border:1pt none windowtext\;padding:0in\;background-image:initial\;background-position:initial\;background-size:initial\;background-repeat:initial\;background-attachment:initial\;background-origin:initial\;background-clip:initial\;"><span style="font-size:16px\;">836 1st Street<br />\nMiami Beach\, FL 33139</span><br />\n<br />\n<span style="font-size:20px\;"><u><strong>Date &amp\; Time</strong></u></span><br />\n<span style="font-family:arial\;"><span style="font-size:16px\;">Tuesday\, November 27\,&nbsp\;2018</span></span><br />\n<span style="font-size:16px\;">6:00 PM &ndash\; 8:00 PM</span></span></span><br />\n<br />\n<br />\n<span style="font-size:22px\;"><span style="border:1pt none windowtext\;padding:0in\;background-image:initial\;background-position:initial\;background-size:initial\;background-repeat:initial\;background-attachment:initial\;background-origin:initial\;background-clip:initial\;"><span style="font-family:arial\;"><span style="font-size:20px\;"><strong><u>Parking</u></strong></span></span><br />\n<span style="font-size:16px\;">Metered lot behind restaurant\, street parking and valet is available at the venue.</span></span></span><br />\n<br />\nWe encourage you to rideshare! Download the miRide app (use referral code mimbcc10) and 10% of all proceeds will benefit the Miami Beach Education Foundation. You can also use the Ride Freebee app for free transportation to certain locations<br />\n<br />\n<br />\n<br />\n<span style="font-size:16px\;"><span style="border:1pt none windowtext\;padding:0in\;background-image:initial\;background-position:initial\;background-size:initial\;background-repeat:initial\;background-attachment:initial\;background-origin:initial\;background-clip:initial\;">&nbsp\;</span><br />\n<span style="border:1pt none windowtext\;padding:0in\;background-image:initial\;background-position:initial\;background-size:initial\;background-repeat:initial\;background-attachment:initial\;background-origin:initial\;background-clip:initial\;">For more information or to RSVP email </span><a href="mailto:events@miamibeachchamber.com"><span style="border:1pt none windowtext\;padding:0in\;background-image:initial\;background-position:initial\;background-size:initial\;background-repeat:initial\;background-attachment:initial\;background-origin:initial\;background-clip:initial\;text-decoration-line:none\;">events@miamibeachchamber.com</span></a><span style="border:1pt none windowtext\;padding:0in\;background-image:initial\;background-position:initial\;background-size:initial\;background-repeat:initial\;background-attachment:initial\;background-origin:initial\;background-clip:initial\;">&nbsp\;<br />\nor call 305-674-1300 ext. 3010</span></span></div>\n
LOCATION:Fogo de Ch o Miami 836 1st Street Miami Beach\, FL 33139
UID:e.166.39310
SEQUENCE:3
DTSTAMP:20260422T015204Z
URL:https://business.miamibeachchamber.com/events/details/law-council-dinner-at-fogo-de-ch&#227;o-miami-39310
END:VEVENT

END:VCALENDAR
