BEGIN:VCALENDAR
VERSION:2.0
PRODID:-//ChamberMaster//Event Calendar 2.0//EN
METHOD:PUBLISH
X-PUBLISHED-TTL:P3D
REFRESH-INTERVAL:P3D
CALSCALE:GREGORIAN
BEGIN:VEVENT
DTSTART:20181117T230000Z
DTEND:20181118T013000Z
X-MICROSOFT-CDO-ALLDAYEVENT:FALSE
SUMMARY:Ladies Happy Hour at The Cape Rooftop
DESCRIPTION:Join Creative GLUE and Hooch for a special Ladies Happy Hour this Saturday! Enjoy complimentary light bites\, drink specials\, and networking. We can't wait to see you there.
X-ALT-DESC;FMTTYPE=text/html:Join Creative GLUE and Hooch for a special Ladies Happy Hour this Saturday! Enjoy complimentary light bites\, drink specials\, and networking. We can&#39\;t wait to see you there.<br />\n<br />\n<br />\n<br />\n&nbsp\;
LOCATION:The Cape Rooftop 150 20th St Miami Beach
UID:e.166.39322
SEQUENCE:3
DTSTAMP:20260422T001635Z
URL:https://business.miamibeachchamber.com/events/details/ladies-happy-hour-at-the-cape-rooftop-39322
END:VEVENT

END:VCALENDAR
