BEGIN:VCALENDAR
VERSION:2.0
PRODID:-//ChamberMaster//Event Calendar 2.0//EN
METHOD:PUBLISH
X-PUBLISHED-TTL:P3D
REFRESH-INTERVAL:P3D
CALSCALE:GREGORIAN
BEGIN:VEVENT
DTSTART:20191012T140000Z
DTEND:20191012T160000Z
X-MICROSOFT-CDO-ALLDAYEVENT:FALSE
SUMMARY:Kim Cameron & Side FX Performs live @ Bayside\, Miami
DESCRIPTION:Join Kim & Side FX at Bayside Marketplace as they perform for the Susan Komen Race for a Cure! \n\nKim Cameron and her band Side FX is a high-energy\, 2-time Top 20 Billboard chart-topping deep house sound with placements on Billboard Dance Club\, Hot AC\, AC\, CMJ\, AAA\, DJ Times\, FMQB music charts.\n\nKim Cameron\, who performed twice for the NFL (Giants\, Redskins) to over 75\,000\, performed for the National League (Marlins Baseball)\, toured across the U.S.\, Caribbean & Europe and China\, & awarded Best Female Emerging Artist of the Year\, Album of the Year\, Best Live Performance\, Silver Medal\, Global Music Awards\, Semi-Finalists Song of the Year\, Winner Accolade Global Film Competition\, Best Dance Song\, and Winner of American Songwriting award.\n\nRecently\, Kim was an award winner for her musical 'Her Story' by the New York Screenplay as well as the Amsterdam Film Festival. She was also asked to perform at the Xiamen Music Festival in China\, receiving an International Exchange Award being the only female asked to perform. You can hear her in stores across the globe and on radio and TV (Bravo\, CMTV\, Fox Sports\, MTV\, Discovery\, MUN2).
X-ALT-DESC;FMTTYPE=text/html:<p>Join Kim &amp\; Side FX at Bayside Marketplace as they perform for the Susan Komen Race for a Cure!&nbsp\;</p>\n\n<p><strong>Kim Cameron</strong>&nbsp\;and her band&nbsp\;<strong>Side FX</strong>&nbsp\;is a high-energy\, 2-time Top 20 Billboard chart-topping deep house sound with placements on Billboard Dance Club\, Hot AC\, AC\, CMJ\, AAA\, DJ Times\, FMQB music charts.</p>\n\n<p>Kim Cameron\, who performed twice for the NFL (Giants\, Redskins) to over 75\,000\, performed for the National League (Marlins Baseball)\, toured across the U.S.\, Caribbean &amp\; Europe and China\, &amp\; awarded<em><strong>&nbsp\;Best Female Emerging Artist of the Year\, Album of the Year\,</strong></em><em><strong>&nbsp\;Best Live Performance\,</strong></em>&nbsp\;<em><strong>Silver Medal\, Global Music Awards\, Semi-Finalists Song of the Year\, Winner Accolade Global Film Competition\, Best Dance Song\, and Winner of American Songwriting award</strong></em><em><strong>.</strong></em></p>\n\n<p>Recently\, Kim was an award winner for her musical &#39\;<em><strong>Her Story</strong></em>&#39\; by the&nbsp\;<em><strong>New York Screenplay</strong></em>&nbsp\;as well as the&nbsp\;<em><strong>Amsterdam Film Festival</strong></em>. She was also asked to perform at the Xiamen Music Festival in China\, receiving an&nbsp\;<em><strong>International Exchange Award</strong></em>&nbsp\;being the only female asked to perform. You can hear her in stores across the globe and on radio and TV (Bravo\, CMTV\, Fox Sports\, MTV\, Discovery\, MUN2).</p>\n
LOCATION:Bayside Marketplace 401 Biscayne Blvd. Miami\, FL
UID:e.166.44048
SEQUENCE:3
DTSTAMP:20260423T103054Z
URL:https://business.miamibeachchamber.com/events/details/kim-cameron-side-fx-performs-live-bayside-miami-44048
END:VEVENT

END:VCALENDAR
