BEGIN:VCALENDAR
VERSION:2.0
PRODID:-//ChamberMaster//Event Calendar 2.0//EN
METHOD:PUBLISH
X-PUBLISHED-TTL:P3D
REFRESH-INTERVAL:P3D
CALSCALE:GREGORIAN
BEGIN:VEVENT
DTSTART:20191012T160000Z
DTEND:20191012T160000Z
X-MICROSOFT-CDO-ALLDAYEVENT:FALSE
SUMMARY:Kim Cameron Live @Komens for the Cure
DESCRIPTION:Join Kim Cameron\, DJ Halo and her band for an after the Komen's for the Cure performance at Bayside
X-ALT-DESC;FMTTYPE=text/html:Join Kim Cameron\, DJ Halo and her band for an after the Komen&#39\;s for the Cure performance at Bayside
LOCATION:Bayside\, Miami\, FL
UID:e.166.44054
SEQUENCE:3
DTSTAMP:20260423T103358Z
URL:https://business.miamibeachchamber.com/events/details/kim-cameron-live-komens-for-the-cure-44054
END:VEVENT

END:VCALENDAR
