BEGIN:VCALENDAR
VERSION:2.0
PRODID:-//ChamberMaster//Event Calendar 2.0//EN
METHOD:PUBLISH
X-PUBLISHED-TTL:P3D
REFRESH-INTERVAL:P3D
CALSCALE:GREGORIAN
BEGIN:VEVENT
DTSTART:20200129T003000Z
DTEND:20200129T020000Z
X-MICROSOFT-CDO-ALLDAYEVENT:FALSE
SUMMARY:JCC Conversations with Celebrity Photographer Manny Hernandez
DESCRIPTION:JCC Conversations presents\n\n\n\nManny Hernandez\n\n\n\nSponsored by Menin Hospitality\n\n\n\nPhotographer Manny Hernandez has captured Miami's flash and moments of pizzazz in decades worth of candid images. His photographs chronicle the Magic City's celebrity-driven tipping point of the late 1980s and 1990s. As a social photographer\, he has documented the city's partying ways as well as its rise into cultural significance. Reflecting the city's multicultural embrace of all things celebrity. Hernandez's candids are sparkling points within the broad strokes of Miami's emergent pop-culture landscape.\n\n\n\nInterview by\n\n\n\nJenny Starr Perez | Editor in Chief\, Indulge Magazine\n\n\n\nTickets\n\n\n\nPublic : $18\n\nMembers : $10\n\nPatrons : Free
X-ALT-DESC;FMTTYPE=text/html:<div style="text-align: center\;">JCC Conversations presents<br />\n<br />\n<span style="font-size:20px\;"><strong>Manny Hernandez</strong></span><br />\n<br />\n<em><span style="font-size:14px\;">Sponsored by Menin Hospitality</span></em><br />\n<br />\nPhotographer Manny Hernandez has captured Miami&rsquo\;s flash and moments of pizzazz in decades worth of candid images.&nbsp\;His photographs chronicle the Magic City&rsquo\;s celebrity-driven&nbsp\;tipping point of the late 1980s and 1990s. As a social&nbsp\;photographer\, he has documented the city&rsquo\;s partying ways&nbsp\;as well as its rise into cultural significance. Reflecting the&nbsp\;city&rsquo\;s multicultural embrace of all things celebrity.&nbsp\;Hernandez&rsquo\;s candids are sparkling points within the broad&nbsp\;strokes of Miami&rsquo\;s emergent pop-culture landscape.<br />\n<br />\n<strong><span style="font-size:14px\;">Interview by</span></strong><br />\n<br />\n<span style="font-size:20px\;"><strong>Jenny Starr Perez </strong>| <em>Editor in Chief\,</em> Indulge Magazine</span><br />\n<br />\n<u><strong>Tickets</strong></u><br />\n<br />\nPublic : $18<br />\nMembers : $10<br />\nPatrons : Free<br />\n<br />\n&nbsp\;</div>\n
LOCATION:Miami Beach Jewish Community Center 4221 Pine Tree Drive Miami Beach FL 33140
UID:e.166.48027
SEQUENCE:3
DTSTAMP:20260423T062049Z
URL:https://business.miamibeachchamber.com/events/details/jcc-conversations-with-celebrity-photographer-manny-hernandez-48027
END:VEVENT

END:VCALENDAR
