BEGIN:VCALENDAR
VERSION:2.0
PRODID:-//ChamberMaster//Event Calendar 2.0//EN
METHOD:PUBLISH
X-PUBLISHED-TTL:P3D
REFRESH-INTERVAL:P3D
CALSCALE:GREGORIAN
BEGIN:VEVENT
DTSTART:20190124T230000Z
DTEND:20190125T010000Z
X-MICROSOFT-CDO-ALLDAYEVENT:FALSE
SUMMARY:January Networker & Dinner @ Latin Cafe 2000
DESCRIPTION:The Miami Beach Chamber of Commerce Invites You to our\n\nJanuary Networker & Dinner at Latin Cafe 2000\n\n\n\nCan't stay for dinner? Just stay for the networker and enjoy an evening meeting some of Miami Beach's business community members.\n\n\n\n3-Course Dinner: $40\n\nCancellations with a full refund must be made 2 business days prior to the event.\n\n\n\nMenu\n\n\n\nBeverages:\n\nFountain Soda or Water\n\n \n\nFirst Course (Family Style):\n\n\n\nBacon Wrapped Maduros\n\nSweet plantains wrapped in bacon with a habanero sauce\n\n\n\nCroquetas de Jamon\n\nHam croquettes with a blackberry dijon sauce\n\n\n\nTruffle Yuca Frita\n\nFried yuca topped with truffle oil and parmesan cheese served with a cilantro aioli\n\n \n\nEntree (Choose 1):\n\n\n\nVaca Frita de Pollo\n\nGrilled shredded chicken breast sauteed with white rice andsweet plantains \n\n\n\nBistec de Palomilla \n\nGrilled thin Cuban style steak topped with onions served with white rice and black beans\n\n\n\nRopa Vieja \n\nShredded beef in Creole sauce with white rice and sweet plantains\n\n\n\nBistro Salad with Balsamic Vinaigrette (Option: Add Grilled Chicken Breast )\n\n mixed greens with almonds\,cranberries\, sunflower seeds and crumbled feta cheese served with balsamic vinaigrette\n\n\n\nDessert (Choose 1):\n\n\n\nArroz con Leche\n\nRice pudding\n\n\n\nFlan\n\nCuban egg custard with caramel\n\n \n\nCoffee:\n\nCafe Cubano or Cortadito\n\n\n\n\n\n\n\n\n\n\n\nParking\n\n\n\nWe encourage you to rideshare! Download the miRide app (use referral code mimbcc10) and 10% of all proceeds will benefit the Miami Beach Chamber Education Foundation. You can also use the Ride Freebee app for free transportation to certain locations.
X-ALT-DESC;FMTTYPE=text/html:<div style="text-align: center\;"><strong style="text-align: center\; color: rgb(51\, 51\, 51)\; line-height: 22.4px\; font-family: tahoma\; font-size: 14px\; background-color: rgb(255\, 255\, 255)\;">The Miami Beach Chamber of Commerce Invites You to our<br />\nJanuary Networker &amp\; Dinner at&nbsp\;Latin Cafe 2000</strong><br />\n<br />\nCan&#39\;t stay for dinner? Just stay for the networker and e<span style="text-align: center\;">njoy an evening meeting some of&nbsp\;Miami Beach&#39\;s business&nbsp\;community members.</span><br />\n<br />\n<font face="Tahoma" size="3" style="text-align: center\;">3-Course Dinner: $40</font><br />\n<em style="color: inherit\; font-family: inherit\; font-size: inherit\; font-variant: inherit\; font-weight: inherit\; letter-spacing: inherit\; text-align: inherit\; text-indent: inherit\; text-transform: inherit\; white-space: inherit\; word-spacing: inherit\; background: none\; box-sizing: content-box\; margin: 0px\; padding: 0px\; border: none\; font-stretch: inherit\; line-height: inherit\; vertical-align: baseline\; bottom: auto\; clear: none\; content: normal\; direction: inherit\; display: inline\; empty-cells: show\; left: auto\; max-height: none\; max-width: none\; min-height: initial\; min-width: initial\; opacity: 1\; outline-offset: 0px\; overflow: visible\; position: static\; resize: none\; right: auto\; table-layout: auto\; text-overflow: clip\; top: auto\; visibility: inherit\; word-break: inherit\; overflow-wrap: inherit\; z-index: auto\; border-collapse: separate\; border-radius: 0px\; height: auto\; width: auto\; box-shadow: none\;"><span style="box-sizing: content-box\; margin: 0px\; padding: 0px\; border: none\; font-style: inherit\; font-variant: inherit\; font-weight: inherit\; font-stretch: inherit\; line-height: inherit\; vertical-align: baseline\; bottom: auto\; clear: none\; color: rgb(255\, 0\, 0)\; content: normal\; direction: inherit\; empty-cells: show\; left: auto\; letter-spacing: inherit\; max-height: none\; max-width: none\; min-height: initial\; min-width: initial\; opacity: 1\; outline-offset: 0px\; overflow: visible\; position: static\; resize: none\; right: auto\; table-layout: auto\; text-align: inherit\; text-indent: inherit\; text-overflow: clip\; text-transform: inherit\; top: auto\; visibility: inherit\; white-space: inherit\; word-break: inherit\; word-spacing: inherit\; overflow-wrap: inherit\; z-index: auto\; background: none\; border-collapse: separate\; border-radius: 0px\; height: auto\; width: auto\; box-shadow: none\;"><span style="box-sizing: content-box\; margin: 0px\; padding: 0px\; border: none\; font-style: inherit\; font-variant: inherit\; font-weight: bolder\; font-stretch: inherit\; line-height: inherit\; vertical-align: baseline\; bottom: auto\; clear: none\; color: inherit\; content: normal\; direction: inherit\; empty-cells: show\; left: auto\; letter-spacing: inherit\; max-height: none\; max-width: none\; min-height: initial\; min-width: initial\; opacity: 1\; outline-offset: 0px\; overflow: visible\; position: static\; resize: none\; right: auto\; table-layout: auto\; text-align: inherit\; text-indent: inherit\; text-overflow: clip\; text-transform: inherit\; top: auto\; visibility: inherit\; white-space: inherit\; word-break: inherit\; word-spacing: inherit\; overflow-wrap: inherit\; z-index: auto\; background: none\; border-collapse: separate\; border-radius: 0px\; height: auto\; width: auto\; box-shadow: none\;">Cancellations with a full refund must be made 2 business days prior to the event.</span></span></em><br />\n<br />\n<u><span style="font-family:arial\;"><span style="font-size:16px\;">Menu</span></span></u><br />\n<br />\n<u><em>Beverages:</em></u><br />\nFountain Soda or Water<br />\n&nbsp\;<br />\n<em><u>First Course (Family Style):</u></em><br />\n<br />\n<strong>Bacon Wrapped Maduros</strong><br />\nSweet plantains wrapped in bacon with a habanero sauce<br />\n<br />\n<strong>Croquetas de Jamon</strong><br />\nHam croquettes with a blackberry dijon sauce<br />\n<br />\n<strong>Truffle Yuca Frita</strong><br />\nFried yuca topped with truffle oil and parmesan cheese served with a cilantro aioli<br />\n&nbsp\;<br />\n<em><u>Entree (Choose 1):</u></em><br />\n<br />\n<span style="text-align: center\;"><strong>Vaca Frita de Pollo</strong><br />\nGrilled shredded chicken breast sauteed with white rice andsweet plantains&nbsp\;</span><br />\n<br />\n<strong>Bistec de Palomilla&nbsp\;</strong><br />\n<span style="text-align: center\;">Grilled thin Cuban style steak topped with onions served with white rice and black beans<br />\n<br />\n<strong>Ropa Vieja&nbsp\;</strong></span><br />\nShredded beef in Creole sauce with white rice and sweet plantains<br />\n<br />\nBistro Salad with Balsamic Vinaigrette (Option: Add Grilled Chicken Breast )<br />\n&nbsp\;mixed greens with almonds\,cranberries\, sunflower seeds and crumbled feta cheese served with balsamic vinaigrette<br />\n<br />\n<em><u>Dessert (Choose 1):</u></em><br />\n<br />\n<strong>Arroz con Leche</strong><br />\nRice pudding<br />\n<br />\n<strong>Flan</strong><br />\nCuban egg custard with caramel<br />\n&nbsp\;<br />\n<em><u>Coffee:</u></em><br />\nCafe Cubano or Cortadito<br />\n<br />\n<br />\n<br />\n<br />\n<br />\n<u><span style="font-size:16px\;">Parking</span></u><br />\n<br />\nWe encourage you to rideshare! Download the miRide app (use referral code mimbcc10) and 10% of all proceeds will benefit the Miami Beach Chamber Education Foundation. You can also use the Ride Freebee app for free transportation to certain locations.</div>\n
LOCATION:Latin Cafe 2000 1053 Brickell Plaza Miami\, FL 33131
UID:e.166.39629
SEQUENCE:3
DTSTAMP:20260422T060410Z
URL:https://business.miamibeachchamber.com/events/details/january-networker-dinner-latin-cafe-2000-39629
END:VEVENT

END:VCALENDAR
