BEGIN:VCALENDAR
VERSION:2.0
PRODID:-//ChamberMaster//Event Calendar 2.0//EN
METHOD:PUBLISH
X-PUBLISHED-TTL:P3D
REFRESH-INTERVAL:P3D
CALSCALE:GREGORIAN
BEGIN:VEVENT
DTSTART:20190920T140000Z
DTEND:20190920T170000Z
X-MICROSOFT-CDO-ALLDAYEVENT:FALSE
SUMMARY:International Day of Peace
DESCRIPTION:Join 2019's "Climate Action for Peace\," a global peace assembly. Peace Proclamations will be delivered by Miami-Dade County Commissioner Eileen Higgins and City of Miami Beach Police Chief Richard Clements. The Honorable Mayor Dan Gelber will present the keynote address. Musical selections by Miami Beach Senior High School students will be performed throughout the morning and symbolic artwork from all local Miami Beach schools will be on display. Sponsored by Ayuda\, Marjorie York and the Garden - join the movement to spread peace every day!
X-ALT-DESC;FMTTYPE=text/html:<p><span style="font-size:14px"><span style="font-family:arial\,helvetica\,sans-serif">J<span style="color:rgb(0\, 0\, 0)">oin 2019&#39\;s &quot\;Climate Action for Peace\,&quot\; a global peace assembly. Peace Proclamations will be delivered by Miami-Dade County&nbsp\;</span>Commissioner Eileen Higgins&nbsp\;<span style="color:rgb(0\, 0\, 0)">and City of Miami Beach</span>&nbsp\;Police Chief Richard Clements.&nbsp\;<span style="color:rgb(0\, 0\, 0)">The Honorable&nbsp\;</span>Mayor Dan Gelber&nbsp\;<span style="color:rgb(0\, 0\, 0)">will present the</span><span style="color:rgb(0\, 0\, 0)">&nbsp\;keynote address</span><span style="color:rgb(0\, 0\, 0)">.&nbsp\;Musical selections by&nbsp\;</span>Miami Beach Senior High School</span><span style="color:rgb(0\, 0\, 0)\; font-family:arial"><span style="font-family:arial\,helvetica\,sans-serif">&nbsp\;students will be performed throughout the morning and symbolic artwork from all local Miami Beach schools will be on display. Sponsored by </span>Ayuda\, Marjorie York and the Garden - join the movement to spread peace every day!</span></span></p>\n
LOCATION:Miami Beach Botanical Garden 2000 Convention Center Dr. Miami Beach\, FL 33139 305.673.7256
UID:e.166.43566
SEQUENCE:3
DTSTAMP:20260422T034453Z
URL:https://business.miamibeachchamber.com/events/details/international-day-of-peace-43566
END:VEVENT

END:VCALENDAR
