BEGIN:VCALENDAR
VERSION:2.0
PRODID:-//ChamberMaster//Event Calendar 2.0//EN
METHOD:PUBLISH
X-PUBLISHED-TTL:P3D
REFRESH-INTERVAL:P3D
CALSCALE:GREGORIAN
BEGIN:VEVENT
DTSTART:20200111T180000Z
DTEND:20200112T220000Z
X-MICROSOFT-CDO-ALLDAYEVENT:FALSE
SUMMARY:Ice Cream We Love
DESCRIPTION:Jackson Health Foundation\, South Florida's charity of choice\, has partnered with Bal Harbour Shops to host the 3rd annual "Ice Cream We Love" event on Saturday\, January 11 and Sunday\, January 12. Ice Cream We Love is a fundraising fun-filled weekend featuring a curated lineup of delicious ice cream vendors from around the U.S.\, to benefit Holtz Children's Hospital\, one of the largest children's hospitals in the southeast United States.\n\nIce Cream We Love honors the legacy and philanthropy of Stanley Whitman\, the founder of Bal Harbour Shops\, whose favorite dessert was ice cream. Mr. Whitman is a longtime supporter of Holtz Children's Hospital and his generosity has helped to save the lives of children throughout South Florida.\n\nTickets for Ice Cream We Love are $45 for adults and $15 for children and can be purchased online at www.IceCreamWeLove.com or by calling 305-585-GIVE (4483).
X-ALT-DESC;FMTTYPE=text/html:<p><span style="color:black\; font-family:arial\,sans-serif">Jackson Health Foundation\, South Florida&rsquo\;s charity of choice\, has partnered with Bal Harbour Shops to host the 3rd annual &quot\;Ice Cream We Love&quot\; event on Saturday\, January 11 and Sunday\, January 12. Ice Cream We Love is a fundraising fun-filled weekend featuring a curated lineup of delicious ice cream vendors from around the U.S.\, to benefit Holtz Children&rsquo\;s Hospital\, one of the largest children&rsquo\;s hospitals in the southeast United States.</span></p>\n\n<p><span style="color:black\; font-family:arial\,sans-serif">Ice Cream We Love honors the legacy and philanthropy of Stanley Whitman\, the founder of Bal Harbour Shops\, whose favorite dessert was ice cream. Mr. Whitman is a longtime supporter of Holtz Children&#39\;s Hospital and his generosity has helped to save the lives of children throughout South Florida.</span></p>\n\n<p><span style="color:black\; font-family:arial\,sans-serif">Tickets for Ice Cream We Love are $45 for adults and $15 for children and can be purchased online at <a href="http://www.icecreamwelove.com/">www.IceCreamWeLove.com</a> or by calling 305-585-GIVE (4483). </span></p>\n\n<p>&nbsp\;</p>\n
LOCATION:Bal Harbour Shops 9700 Collins Avenue\, Bal Harbour\, Florida 33154
UID:e.166.47988
SEQUENCE:3
DTSTAMP:20260423T062018Z
URL:https://business.miamibeachchamber.com/events/details/ice-cream-we-love-47988
END:VEVENT

END:VCALENDAR
