BEGIN:VCALENDAR
VERSION:2.0
PRODID:-//ChamberMaster//Event Calendar 2.0//EN
METHOD:PUBLISH
X-PUBLISHED-TTL:P3D
REFRESH-INTERVAL:P3D
CALSCALE:GREGORIAN
BEGIN:VEVENT
DTSTART:20190904T140000Z
DTEND:20190904T160000Z
X-MICROSOFT-CDO-ALLDAYEVENT:FALSE
SUMMARY:Homeschool at Miami Seaquarium
DESCRIPTION:There is a homeschool class appropriate for any home-school-aged student from kindergarten through high school. Our homeschool topics features discussions on animals in the ocean\, South Florida habitats\, endangered species\, and conservation. Each homeschool class has a hands-on component which can include labs\, animal interactions\, dissections\, and crafts reflective of the course topic.
X-ALT-DESC;FMTTYPE=text/html:There is a homeschool class appropriate for any home-school-aged student from kindergarten through high school. Our homeschool topics features discussions on animals in the ocean\, South Florida habitats\, endangered species\, and conservation. Each homeschool class has a hands-on component which can include labs\, animal interactions\, dissections\, and crafts reflective of the course topic.
LOCATION:Miami Seaquarium
UID:e.166.39981
SEQUENCE:3
DTSTAMP:20260423T103634Z
URL:https://business.miamibeachchamber.com/events/details/homeschool-at-miami-seaquarium-03-13-2019-39981
END:VEVENT

END:VCALENDAR
