BEGIN:VCALENDAR
VERSION:2.0
PRODID:-//ChamberMaster//Event Calendar 2.0//EN
METHOD:PUBLISH
X-PUBLISHED-TTL:P3D
REFRESH-INTERVAL:P3D
CALSCALE:GREGORIAN
BEGIN:VEVENT
DTSTART:20181102T140000Z
DTEND:20181102T150000Z
X-MICROSOFT-CDO-ALLDAYEVENT:FALSE
SUMMARY:Holding A Successful Open House w/ Diriet Diaz
DESCRIPTION:Holding a Successful Open House\n\n\n\n	Master the Timeline leading up to the Big Day\n	Maximizing the Hours during the Open House\n	What's the absolute secret to Open House Success?\n\n\n\nShort synopsis:  Diving headfirst into real estate in 2006 when the real estate crash was just beginning meant learning things the hard way and making sure not a minute was spared!  This was Diriet's approach to his first year in business and that meant lots of open houses.  Come to his class to learn a tried and true way to help maximize your open houses.  Generate both buyer and seller leads and create lasting impressions with your clients.
X-ALT-DESC;FMTTYPE=text/html:<div>Holding a Successful Open House</div>\n\n<div>\n<ul>\n	<li>Master the Timeline leading up to the Big Day</li>\n	<li>Maximizing the Hours during the Open House</li>\n	<li>What&rsquo\;s the absolute secret to Open House Success?</li>\n</ul>\n</div>\n\n<div>Short synopsis: &nbsp\;Diving headfirst into real estate in 2006 when the real estate crash was just beginning meant learning things the hard way and making sure not a minute was spared! &nbsp\;This was Diriet&rsquo\;s approach to his first year in business and that meant lots of open houses. &nbsp\;Come to his class to learn a tried and true way to help maximize your open houses. &nbsp\;Generate both buyer and seller leads and create lasting impressions with your clients.</div>\n\n<div>&nbsp\;</div>\n
LOCATION:Keller Williams Miami Beach Realty Meridian Building 1680 Meridian Ave. Ste.\, 200 Miami Beach\, FL 33139 O. 305.695.1112
UID:e.166.38465
SEQUENCE:3
DTSTAMP:20260422T001408Z
URL:https://business.miamibeachchamber.com/events/details/holding-a-successful-open-house-w-diriet-diaz-38465
END:VEVENT

END:VCALENDAR
