BEGIN:VCALENDAR
VERSION:2.0
PRODID:-//ChamberMaster//Event Calendar 2.0//EN
METHOD:PUBLISH
X-PUBLISHED-TTL:P3D
REFRESH-INTERVAL:P3D
CALSCALE:GREGORIAN
BEGIN:VEVENT
DTSTART:20181213T170000Z
DTEND:20181213T180000Z
X-MICROSOFT-CDO-ALLDAYEVENT:FALSE
SUMMARY:Health & Wellness Council Meeting
DESCRIPTION:On behalf of health & Wellness Council Co-Chairs Maia Mediavilla (Vi at Aventura) and Dr. Sachi (Sachi Wisdom)\, we invite you to join us for our monthly meeting.\n\n\n\n\n\n \n\n\nMission Statement\n\nTo facilitate communication between and among the members of the Health & Wellness community and the Miami Beach community at large in order to (a) increase awareness that impacts individuals and businesses and (b) identify and create business opportunities between them.
X-ALT-DESC;FMTTYPE=text/html:<div style="text-align: center\;">On behalf of health &amp\; Wellness Council Co-Chairs Maia Mediavilla (Vi at Aventura) and Dr. Sachi (Sachi Wisdom)\, we invite you to join us for our monthly meeting.<br />\n<br />\n<br />\n&nbsp\;\n<hr /></div>\n\n<div style="text-align: center\;"><u><strong>Mission Statement</strong></u><br />\nTo facilitate communication between and among the members of the Health &amp\; Wellness community and the Miami Beach community at large in order to (a) increase awareness that impacts individuals and businesses and (b) identify and create business opportunities between them.</div>\n
LOCATION:Miami Beach Chamber of Commerce 1920 Meridian Avenue\, 3rd Floor Miami Beach\, FL 33139
UID:e.166.41907
SEQUENCE:3
DTSTAMP:20260421T224225Z
URL:https://business.miamibeachchamber.com/events/details/health-wellness-council-meeting-12-13-2018-41907
END:VEVENT

END:VCALENDAR
