BEGIN:VCALENDAR
VERSION:2.0
PRODID:-//ChamberMaster//Event Calendar 2.0//EN
METHOD:PUBLISH
X-PUBLISHED-TTL:P3D
REFRESH-INTERVAL:P3D
CALSCALE:GREGORIAN
BEGIN:VEVENT
DTSTART:20200213T170000Z
DTEND:20200213T183000Z
X-MICROSOFT-CDO-ALLDAYEVENT:FALSE
SUMMARY:Health & Wellness Council Meeting
DESCRIPTION:On behalf of health & Wellness Council Chair Dr. Lynn Carey (Arbonne International) and Vice-Chair Diane Klein (Nova Southeastern University)\, we invite you to join us for our monthly meeting.\n\n\n\nThis month you'll hear from\n\n\n\nDr. Socrates Kakoulides | Baptist Health South Florida\n\n\n\nAs a cardio physician with Baptist Health Medical\, he is an expert in heart health and will discuss some key tips on how you can stay heart healthy.\n\n\n\n\n\nLunch sponsored by Baptist Health South Florida.\n\n\n\n \n\n\nMission Statement\n\nTo facilitate communication between and among the members of the Health & Wellness community and the Miami Beach community at large in order to (a) increase awareness that impacts individuals and businesses and (b) identify and create business opportunities between them.
X-ALT-DESC;FMTTYPE=text/html:<div style="text-align: center\;">On behalf of health &amp\; Wellness Council Chair Dr. Lynn Carey (Arbonne International) and Vice-Chair Diane Klein (Nova Southeastern University)\, we invite you to join us for our monthly meeting.<br />\n<br />\nThis month you&#39\;ll hear from<br />\n<br />\n<span style="font-family:arial\,sans-serif\;"><span style="font-size:11.0pt\;"><span style="font-size:20px\;"><strong>Dr. Socrates Kakoulides | </strong><em>Baptist Health South Florida</em></span><br />\n<br />\nAs a cardio physician with Baptist Health Medical\, he is an expert in heart health and will discuss some key tips on how you can stay heart healthy.</span></span><br />\n<br />\n<br />\nLunch sponsored by <strong>Baptist Health South Florida.</strong><br />\n<br />\n&nbsp\;\n<hr /></div>\n\n<div style="text-align: center\;"><u><strong>Mission Statement</strong></u><br />\nTo facilitate communication between and among the members of the Health &amp\; Wellness community and the Miami Beach community at large in order to (a) increase awareness that impacts individuals and businesses and (b) identify and create business opportunities between them.</div>\n
LOCATION:Miami Beach Chamber of Commerce 1920 Meridian Avenue\, 3rd Floor Miami Beach\, FL 33139
UID:e.166.41920
SEQUENCE:3
DTSTAMP:20260423T062340Z
URL:https://business.miamibeachchamber.com/events/details/health-wellness-council-meeting-02-13-2020-41920
END:VEVENT

END:VCALENDAR
