BEGIN:VCALENDAR
VERSION:2.0
PRODID:-//ChamberMaster//Event Calendar 2.0//EN
METHOD:PUBLISH
X-PUBLISHED-TTL:P3D
REFRESH-INTERVAL:P3D
CALSCALE:GREGORIAN
BEGIN:VEVENT
DTSTART:20200109T170000Z
DTEND:20200109T183000Z
X-MICROSOFT-CDO-ALLDAYEVENT:FALSE
SUMMARY:Health & Wellness Council Meeting
DESCRIPTION:On behalf of Health & Wellness Council Chair Dr. Lynn Carey (Arbonne International) and Vice-Chair Diane Klein (Nova Southeastern University)\, we invite you to join us for our monthly meeting.\n\n\n\nWe are excited to have presenter Lauren Romero of Miami Florida Hypnosis share here story of how Hypnosis transformed her life!  She was able to eliminate anxieties by changing her old limited beliefs and replacing them with empowering thoughts.  \n\n\n\nLet's start off the New Year with a health and prosperity visualization.\n\n\n\n* Lunch will be provided by Ocean Grill of the the The Setai Hotel*  \n\nSpeaker:\n\n\n\nLauren Romero | Cert. Hypnotist NLP Practitioner\, Miami Florida Hypnosis\n\n\n\n\n\nLunch will be provided by The Ocean Grill of The Setai Hotel.\n\n\n\n\n\nMission Statement\n\nTo facilitate communication between and among the members of the Health & Wellness community and the Miami Beach community at large in order to (a) increase awareness that impacts individuals and businesses and (b) identify and create business opportunities between them.\n\n\n\nFor more information regarding the Health & Wellness Council\, please contact Leslie Ann Reams\, Council Liaison at admin@miamibeachchamber.com
X-ALT-DESC;FMTTYPE=text/html:<div style="text-align: center\;"><span style="text-align: center\;">On behalf of Health &amp\; Wellness Council Chair Dr. Lynn Carey (Arbonne International) and Vice-Chair Diane Klein (Nova Southeastern University)\, we invite you to join us for our monthly meeting.<br />\n<br />\nWe are excited to have presenter Lauren Romero of Miami Florida Hypnosis share here story of how Hypnosis transformed her life!&nbsp\; She was able to eliminate anxieties by changing her old limited beliefs&nbsp\;and replacing them with empowering thoughts.&nbsp\;&nbsp\;<br />\n<br />\nLet&#39\;s start off the New Year with a health and prosperity visualization.<br />\n<br />\n* Lunch will be provided by Ocean Grill of the the The Setai Hotel*&nbsp\;&nbsp\;<br />\n<u>Speaker:</u><br />\n<br />\n<span style="font-size:16px\;"><strong>Lauren Romero</strong> | <em>Cert. Hypnotist NLP Practitioner\,</em> Miami Florida Hypnosis<br />\n<br />\n<br />\nLunch will be provided by The Ocean Grill of The Setai Hotel.</span></span><br />\n<br />\n<br />\n<u><strong>Mission Statement</strong></u><br />\nTo facilitate communication between and among the members of the Health &amp\; Wellness community and the Miami Beach community at large in order to (a) increase awareness that impacts individuals and businesses and (b) identify and create business opportunities between them.<br />\n<br />\nFor more information regarding the Health &amp\; Wellness Council\, please contact&nbsp\;Leslie Ann Reams\,&nbsp\;Council Liaison&nbsp\;at admin@miamibeachchamber.com</div>\n
LOCATION:Miami Beach Chamber of Commerce 1920 Meridian Avenue\, 3rd Floor Miami Beach\, FL 33139
UID:e.166.41919
SEQUENCE:3
DTSTAMP:20260423T075645Z
URL:https://business.miamibeachchamber.com/events/details/health-wellness-council-meeting-01-09-2020-41919
END:VEVENT

END:VCALENDAR
