BEGIN:VCALENDAR
VERSION:2.0
PRODID:-//ChamberMaster//Event Calendar 2.0//EN
METHOD:PUBLISH
X-PUBLISHED-TTL:P3D
REFRESH-INTERVAL:P3D
CALSCALE:GREGORIAN
BEGIN:VEVENT
DTSTART:20191010T160000Z
DTEND:20191010T173000Z
X-MICROSOFT-CDO-ALLDAYEVENT:FALSE
SUMMARY:Health & Wellness Council Lunch & Learn
DESCRIPTION:October Health & Wellness Council Lunch & Learn  \nTHE END OF OLD AGE:\n\nLIVING A LONGER\, MORE PURPOSEFUL LIFE\n\n\n\n\nPresentation by Miami Jewish Health.\n\nSpeaker & Author Dr. Marc Agronin\, a geriatric psychiatrist and Senior Vice President for Behavioral Health at Miami Jewish Health.  The topic is "The End of Old Age\," which is based on his most recent book.  \n\n\n\nDr. Marc Agronin  |  Geriatric Psychiatrist and Senior Vice President\,  Behavioral Health at Miami Jewish Health\n\n\n\nAs one of America's leading geriatric psychiatrists\, Dr. Marc Agronin sees both the sickest and the healthiest of seniors\, what works to make their lives better and more purposeful and what doesn't. The latest scientific research and Dr. Agronin's first-hand experience are brilliantly distilled in "The End of Old Age"  a call and a plan to no longer see aging as an implacable enemy and start seeing it as a developmental force for enhancing well-being\, meaning\, and longevity.\nThe acclaimed author of How We Age\, whose "descriptive powers are a gift to readers" (Sherwin Nuland)\, presents a hopeful and practical model of aging a guide to understanding how we can all make the journey better.\n\nThroughout The End of Old Age\, the focus is squarely on: "So what does this mean for me and my family?" In the final part of the book\, Dr. Agronin provides simple but revealing charts that you can fill out to identify\, develop\, and optimize your unique age-given strengths. It's nothing short of an action plan to help you age better by improving how you value the aging process\, guide yourself through stress\, and find ways to creatively address change for the best possible experience and outcome.
X-ALT-DESC;FMTTYPE=text/html:<span style="font-size:18px\;">October Health &amp\; Wellness Council Lunch &amp\; Learn&nbsp\;&nbsp\;</span>\n<h2>THE END OF OLD AGE:</h2>\n\n<p><strong>LIVING A LONGER\, MORE PURPOSEFUL LIFE</strong></p>\n<br />\n<br />\nPresentation by Miami Jewish Health.<br />\nSpeaker &amp\; Author&nbsp\;<span style="font-family: calibri\, sans-serif\; font-size: 11pt\;">Dr. Marc Agronin\, a geriatric psychiatrist and Senior Vice President for Behavioral Health at Miami Jewish Health.&nbsp\; The topic is &ldquo\;The End of Old Age\,&rdquo\; which is based on his most recent book.&nbsp\;&nbsp\;</span><br />\n<br />\n<span style="font-size:16px\;"><span style="font-family:calibri\,sans-serif\;"><a href="https://www.marcagronin.com/">Dr. Marc Agronin</a>&nbsp\; |&nbsp\;<em> Geriatric Psychiatrist and Senior Vice President\,&nbsp\;</em> Behavioral Health at Miami Jewish Health</span></span><br />\n<br />\nAs one of America&rsquo\;s leading geriatric psychiatrists\, Dr. Marc Agronin sees both the sickest and the healthiest of seniors\, what works to make their lives better and more purposeful and what doesn&rsquo\;t.&nbsp\;The latest scientific research and Dr. Agronin&rsquo\;s first-hand experience are brilliantly distilled in &quot\;The End of Old Age&quot\; &mdash\;a call and a plan to no longer see aging as an implacable enemy and start seeing it as a developmental force for enhancing well-being\, meaning\, and longevity.\n<p>The acclaimed author of <em>How We Age</em>\, whose &ldquo\;descriptive powers are a gift to readers&rdquo\; (Sherwin Nuland)\, presents a hopeful and practical model of aging&mdash\;a guide to understanding how we can all make the journey better.</p>\n\n<p>Throughout <em>The End of Old Age</em>\, the focus is squarely on: &ldquo\;So what does this mean for me and my family?&rdquo\; In the final part of the book\, Dr. Agronin provides simple but revealing charts that you can fill out to identify\, develop\, and optimize your unique age-given strengths. It&rsquo\;s nothing short of an action plan to help you age better by improving how you value the aging process\, guide yourself through stress\, and find ways to creatively address change for the best possible experience and outcome.</p>\n
LOCATION:Miami Beach Chamber of Commerce 1920 Meridian Avenue\, 3rd Floor Miami Beach\, FL 33139
UID:e.166.41916
SEQUENCE:3
DTSTAMP:20260423T103358Z
URL:https://business.miamibeachchamber.com/events/details/health-wellness-council-lunch-learn-41916
END:VEVENT

END:VCALENDAR
