BEGIN:VCALENDAR
VERSION:2.0
PRODID:-//ChamberMaster//Event Calendar 2.0//EN
METHOD:PUBLISH
X-PUBLISHED-TTL:P3D
REFRESH-INTERVAL:P3D
CALSCALE:GREGORIAN
BEGIN:VEVENT
DTSTART:20190919T210000Z
DTEND:20190920T000000Z
X-MICROSOFT-CDO-ALLDAYEVENT:FALSE
SUMMARY:H3 Networking Happy Hour & Janinha's Pre-Birthday Celebration @ Barceloneta!
DESCRIPTION:H3: Health. Hope. Healing will hold its H3 Networking Happy Hour on Thursday\, September 19th at Barceloneta Mediterranean Bistro.  The event will take place from 5 to 8pm at 1400 20th street\, Miami Beach\, Fl.\, 33139.\n\n\n\nDuring the event\, patients\, survivors and the community will have a chance to network while exploring delicious food and drinks as an expression of joy and healing. After all\, H3 is about health\, hope\, and healing\, while having fun. The event will also have Janinha's pre-birthday celebration\, a moment of joy among friends and supporters. There will also be a raffle with prizes including Barceloneta Mediterranean Bistro gift certificates and more. H3 is also inviting some of the Miami Beach political candidates as 2019 is a very important local election year and the community is eager to find out their agenda towards health care and ther issues.\n\n\n\nFor more information about the event\, please call 305.531.2046 or email info@h3hope. org. Find out about Barceloneta at http://barcelonetarestaurant.com.
X-ALT-DESC;FMTTYPE=text/html:H3: Health. Hope. Healing will hold its H3 Networking Happy Hour on Thursday\, September 19th at Barceloneta Mediterranean Bistro.&nbsp\; The event will take place from 5 to 8pm at 1400 20th street\, Miami Beach\, Fl.\, 33139.<br />\n<br />\nDuring the event\, patients\, survivors and the community will have a chance to network while exploring delicious food and drinks as an expression of joy and healing. After all\, H3 is about health\, hope\, and healing\, while having fun. The event will also have Janinha&rsquo\;s pre-birthday celebration\, a moment of joy among friends and supporters. There will also be a raffle with prizes including Barceloneta Mediterranean Bistro gift certificates and more. H3 is also inviting some of the Miami Beach political candidates as 2019 is a very important local election year and the community is eager to find out their agenda towards health care and ther issues.<br />\n<br />\nFor more information about the event\, please call 305.531.2046 or email info@h3hope. org. Find out about Barceloneta at http://barcelonetarestaurant.com.<br />\n<br />\n&nbsp\;
LOCATION:1400 20th Street\, Miami Beach\, Fl.\, 33139
UID:e.166.43353
SEQUENCE:3
DTSTAMP:20260423T085218Z
URL:https://business.miamibeachchamber.com/events/details/h3-networking-happy-hour-janinha-s-pre-birthday-celebration-43353
END:VEVENT

END:VCALENDAR
