BEGIN:VCALENDAR
VERSION:2.0
PRODID:-//ChamberMaster//Event Calendar 2.0//EN
METHOD:PUBLISH
X-PUBLISHED-TTL:P3D
REFRESH-INTERVAL:P3D
CALSCALE:GREGORIAN
BEGIN:VEVENT
DTSTART:20181101T223000Z
DTEND:20181102T035500Z
X-MICROSOFT-CDO-ALLDAYEVENT:FALSE
SUMMARY:Grow Series by Creative Glue & Extract Collective
DESCRIPTION:This time next week\, we will be hosting a true legend of the cannabis industry\, Danny Danko\, the Sr. Cultivation Editor of High Times Magazine. At Creative Glue\, we've experimented with hundreds of topics from business all the way through to creativity\, but we've yet to cover the cannabis industry.\n\n\n\nAfter much research\, we've discovered a booming industry that is helping millions of people worldwide but also making thousands of them into millionaires. We've partnered with Extract Collective and industry-leading sponsors to reform the conversations on the growth of this amazing industry with multiple verticals. \n\n\n\nCome join us as we network and listen to the legend himself sharing his insights on this booming global industry. You'll learn:\n\n\n\n- The growth of the industry\n\n- Medical benefits\n\n- Investment opportunities\n\n- Market trends\n\n- Network with some of the best in the industry\n\n\n\nWe'll see you there!\n\n\n\n- Creative Glue
X-ALT-DESC;FMTTYPE=text/html:<span style="background-color:rgb(248\, 248\, 248)\; color:rgb(67\, 64\, 77)\; font-family:georgia\; font-size:15px">This time next week\, we will be hosting a true legend of the cannabis industry\, Danny Danko\, the Sr. Cultivation Editor of High Times Magazine.&nbsp\;At Creative Glue\, we&rsquo\;ve experimented with hundreds of topics from business all the way through to creativity\, but we&rsquo\;ve yet to cover the cannabis industry.</span><br />\n<br />\n<span style="background-color:rgb(248\, 248\, 248)\; color:rgb(67\, 64\, 77)\; font-family:georgia\; font-size:15px">After much research\, we&rsquo\;ve discovered a booming industry that is helping millions of people worldwide but also making thousands&nbsp\;of them into millionaires. We&#39\;ve partnered with&nbsp\;</span><a href="https://cgevents.us15.list-manage.com/track/click?u=e7cc25c50a4cd4e84bd2e2668&amp\;id=e0f964e4a2&amp\;e=1120adf72f" style="color: rgb(237\, 94\, 41)\; font-family: Georgia\; font-size: 15px\; background-color: rgb(248\, 248\, 248)\;" target="_blank">Extract Collective</a><span style="background-color:rgb(248\, 248\, 248)\; color:rgb(67\, 64\, 77)\; font-family:georgia\; font-size:15px">&nbsp\;and industry-leading&nbsp\;sponsors to reform the conversations on the growth of this amazing industry with multiple verticals.&nbsp\;</span><br />\n<br />\n<span style="background-color:rgb(248\, 248\, 248)\; color:rgb(67\, 64\, 77)\; font-family:georgia\; font-size:15px">Come join us as we network and listen to the legend himself sharing his insights on this booming global industry. You&rsquo\;ll learn:</span><br />\n<br />\n<span style="background-color:rgb(248\, 248\, 248)\; color:rgb(67\, 64\, 77)\; font-family:georgia\; font-size:15px">- The growth of the industry</span><br />\n<span style="background-color:rgb(248\, 248\, 248)\; color:rgb(67\, 64\, 77)\; font-family:georgia\; font-size:15px">- Medical benefits</span><br />\n<span style="background-color:rgb(248\, 248\, 248)\; color:rgb(67\, 64\, 77)\; font-family:georgia\; font-size:15px">- Investment opportunities</span><br />\n<span style="background-color:rgb(248\, 248\, 248)\; color:rgb(67\, 64\, 77)\; font-family:georgia\; font-size:15px">- Market trends</span><br />\n<span style="background-color:rgb(248\, 248\, 248)\; color:rgb(67\, 64\, 77)\; font-family:georgia\; font-size:15px">- Network with&nbsp\;some of the best in the industry<br />\n<br />\nWe&#39\;ll see you there!<br />\n<br />\n- Creative Glue</span><br />\n&nbsp\;
LOCATION:SLS South Beach 1701 Collins Ave Miami Beach
UID:e.166.39052
SEQUENCE:3
DTSTAMP:20260422T014909Z
URL:https://business.miamibeachchamber.com/events/details/grow-series-by-creative-glue-extract-collective-39052
END:VEVENT

END:VCALENDAR
