BEGIN:VCALENDAR
VERSION:2.0
PRODID:-//ChamberMaster//Event Calendar 2.0//EN
METHOD:PUBLISH
X-PUBLISHED-TTL:P3D
REFRESH-INTERVAL:P3D
CALSCALE:GREGORIAN
BEGIN:VEVENT
DTSTART:20191027T150000Z
DTEND:20191027T180000Z
X-MICROSOFT-CDO-ALLDAYEVENT:FALSE
SUMMARY:Ghosts in the Garden - Family Halloween
DESCRIPTION:Ghosts & Goblins await your family for a spooktacular afternoon.\n\nThe Ghouls are scaring up fun at this free family event:\n\n-Carve your own Jack-o-Lantern * Pumpkins available for purchase.\n\n-Witches Winsome & Denise will guide the creative spirits with -craft stations hosted by the Sunflower Society of Miami Beach\n\n-Strut your stuff in the Garden costume parade\n\n-Plenty of Trick or Treats for all ages
X-ALT-DESC;FMTTYPE=text/html:<span style="font-family:neue plak\,-apple-system\,blinkmacsystemfont\,roboto\,helvetica neue\,helvetica\,tahoma\,arial\,sans-serif\; font-size:14.933333396911621px">Ghosts &amp\; Goblins await your family for a spooktacular afternoon.</span><br />\n<span style="font-family:neue plak\,-apple-system\,blinkmacsystemfont\,roboto\,helvetica neue\,helvetica\,tahoma\,arial\,sans-serif\; font-size:14.933333396911621px">The Ghouls are scaring up fun at this free family event:</span><br />\n<span style="font-family:neue plak\,-apple-system\,blinkmacsystemfont\,roboto\,helvetica neue\,helvetica\,tahoma\,arial\,sans-serif\; font-size:14.933333396911621px">-Carve your own Jack-o-Lantern * Pumpkins available for purchase.</span><br />\n<span style="font-family:neue plak\,-apple-system\,blinkmacsystemfont\,roboto\,helvetica neue\,helvetica\,tahoma\,arial\,sans-serif\; font-size:14.933333396911621px">-Witches Winsome &amp\; Denise will guide the creative spirits with -craft stations hosted by the Sunflower Society of Miami Beach</span><br />\n<span style="font-family:neue plak\,-apple-system\,blinkmacsystemfont\,roboto\,helvetica neue\,helvetica\,tahoma\,arial\,sans-serif\; font-size:14.933333396911621px">-Strut your stuff in the Garden costume parade</span><br />\n<span style="font-family:neue plak\,-apple-system\,blinkmacsystemfont\,roboto\,helvetica neue\,helvetica\,tahoma\,arial\,sans-serif\; font-size:14.933333396911621px">-Plenty of Trick or Treats for all ages</span>
LOCATION:Miami Beach Botanical Garden 2000 Convention Center Dr. Miami Beach\, FL 33139 305.673.7256
UID:e.166.43733
SEQUENCE:3
DTSTAMP:20260423T103728Z
URL:https://business.miamibeachchamber.com/events/details/ghosts-in-the-garden-family-halloween-43733
END:VEVENT

END:VCALENDAR
