BEGIN:VCALENDAR
VERSION:2.0
PRODID:-//ChamberMaster//Event Calendar 2.0//EN
METHOD:PUBLISH
X-PUBLISHED-TTL:P3D
REFRESH-INTERVAL:P3D
CALSCALE:GREGORIAN
BEGIN:VEVENT
DTSTART:20200209T180000Z
DTEND:20200210T020000Z
X-MICROSOFT-CDO-ALLDAYEVENT:FALSE
SUMMARY:Fountain Fest 2020! A Day of Art and Music
DESCRIPTION:Fountain Fest   A Day of Art & Music\n\nFREE TO ALL! Family and pet-friendly\n\nJoin your neighbors for an all-day Fountain Fest! Let the creative juices flow all day\, then dance the night away!  More details to come \n\n1PM Metroflea Miami's Artisan Market Begins\n\n3PM Live Art\n\n5PM Live Music
X-ALT-DESC;FMTTYPE=text/html:Fountain Fest &ndash\; A Day of Art &amp\; Music<br />\n<em><span style="color:#1D2129"><span style="font-family:helvetica\,sans-serif"><span style="font-size:10.0pt">FREE TO ALL! Family and pet-friendly</span></span></span></em><br />\n<span style="color:#1D2129"><span style="font-family:helvetica\,sans-serif"><span style="font-size:10.5pt">Join your neighbors for an all-day Fountain Fest! Let the creative juices flow all day\, then dance the night away! &nbsp\;More details to come&hellip\;</span></span></span><br />\n<span style="color:#1D2129"><span style="font-family:helvetica\,sans-serif"><span style="font-size:10.5pt">1PM </span></span></span><a href="https://www.facebook.com/MetrofleaMiami/" target="_blank"><span style="color:#385898"><span style="font-family:helvetica\,sans-serif"><span style="font-size:10.5pt">Metroflea Miami</span></span></span></a><span style="color:#1D2129"><span style="font-family:helvetica\,sans-serif"><span style="font-size:10.5pt">&#39\;s Artisan Market Begins</span></span></span><br />\n<span style="color:#1D2129"><span style="font-family:helvetica\,sans-serif"><span style="font-size:10.5pt">3PM Live Art<br />\n5PM Live Music </span></span></span>
LOCATION:Normandy Fountain 7802 Rue Vendome Miami Beach\, FL 33141
UID:e.166.47997
SEQUENCE:3
DTSTAMP:20260423T044813Z
URL:https://business.miamibeachchamber.com/events/details/fountain-fest-2020-a-day-of-art-and-music-47997
END:VEVENT

END:VCALENDAR
