BEGIN:VCALENDAR
VERSION:2.0
PRODID:-//ChamberMaster//Event Calendar 2.0//EN
METHOD:PUBLISH
X-PUBLISHED-TTL:P3D
REFRESH-INTERVAL:P3D
CALSCALE:GREGORIAN
BEGIN:VEVENT
DTSTART:20190905T153000Z
DTEND:20190905T163000Z
X-MICROSOFT-CDO-ALLDAYEVENT:FALSE
SUMMARY:Foreclosure & REO with Karen Michaels\, VP Agency Education
DESCRIPTION:Foreclosure & REO with Karen Michaels\, VP Agency Education\n\n\n\nReview of the foreclosure process in Florida from the default to the sale of the property at REO. We will discuss the issues during the process that can cause delays in closing.
X-ALT-DESC;FMTTYPE=text/html:Foreclosure &amp\; REO with Karen Michaels\, VP Agency Education<br />\n<br />\nReview of the foreclosure process in Florida from the default to the sale of the property at REO. We will discuss the issues during the process that can cause delays in closing.
LOCATION:Keller Williams Miami Beach 1680 Meridian Ave.\, Ste. 200 Miami Beach\, FL 33139
UID:e.166.43347
SEQUENCE:3
DTSTAMP:20260423T085529Z
URL:https://business.miamibeachchamber.com/events/details/foreclosure-reo-with-karen-michaels-vp-agency-education-43347
END:VEVENT

END:VCALENDAR
