BEGIN:VCALENDAR
VERSION:2.0
PRODID:-//ChamberMaster//Event Calendar 2.0//EN
METHOD:PUBLISH
X-PUBLISHED-TTL:P3D
REFRESH-INTERVAL:P3D
CALSCALE:GREGORIAN
BEGIN:VEVENT
DTSTART:20181115T230000Z
DTEND:20181116T013000Z
X-MICROSOFT-CDO-ALLDAYEVENT:FALSE
SUMMARY:FASHION TALKS MIAMI
DESCRIPTION:
X-ALT-DESC;FMTTYPE=text/html:
LOCATION:
UID:e.166.39361
SEQUENCE:3
DTSTAMP:20260422T001454Z
URL:https://business.miamibeachchamber.com/events/details/fashion-talks-miami-39361
END:VEVENT

END:VCALENDAR
