BEGIN:VCALENDAR
VERSION:2.0
PRODID:-//ChamberMaster//Event Calendar 2.0//EN
METHOD:PUBLISH
X-PUBLISHED-TTL:P3D
REFRESH-INTERVAL:P3D
CALSCALE:GREGORIAN
BEGIN:VEVENT
DTSTART:20181130T040000Z
DTEND:20181130T060000Z
X-MICROSOFT-CDO-ALLDAYEVENT:FALSE
SUMMARY:Exclusive Invite- Pancake & French Toast Menu Launch Party
DESCRIPTION:JOIN US FOR OUR GRAND OPENING \n\n"PANCAKES AND FRENCH TOAST PARTY"\n\nAT MANGO'S TROPICAL CAFE\, SOUTH BEACH\n\nALL YOU CAN EAT GOURMET TREAT!\n\n \n\nTHURSDAY NIGHT\, NOVEMBER 29\, 2018\n\n11:00pm   1:00am\n\nTRY ALL THE LIQUOR INFUSED SYRUPS\n\n\n\nRSVP AT  EVENTSSOBE@MANGOS.COM
X-ALT-DESC;FMTTYPE=text/html:<div style="text-align: center\;"><strong><span style="font-family:helvetica\,sans-serif"><span style="font-size:12pt">JOIN US FOR OUR GRAND OPENING&hellip\;</span></span></strong><br />\n<strong><span style="font-family:helvetica\,sans-serif"><span style="font-size:21pt">&ldquo\;PANCAKES AND FRENCH TOAST PARTY&rdquo\;</span></span></strong><br />\n<strong><span style="font-family:helvetica\,sans-serif"><span style="font-size:12pt"><strong>AT MANGO&rsquo\;S TROPICAL CAFE\, SOUTH BEACH</strong></span></span></strong><br />\n<strong><span style="font-family:helvetica\,sans-serif"><span style="font-size:13.5pt">ALL YOU CAN EAT GOURMET TREAT!</span></span></strong><br />\n&nbsp\;<br />\n<strong><span style="font-family:helvetica\,sans-serif"><span style="font-size:13.5pt">THURSDAY NIGHT\, NOVEMBER 29\, 2018</span></span></strong><br />\n<strong><span style="font-family:helvetica\,sans-serif"><span style="font-size:12pt"><strong>11:00pm &ndash\; 1:00am</strong><br />\n<strong>TRY ALL THE LIQUOR INFUSED SYRUPS</strong><br />\n<br />\n<strong>RSVP AT&nbsp\;</strong><strong>&nbsp\;<a href="mailto:EVENTSSOBE@MANGOS.COM">EVENTSSOBE@MANGOS.COM</a></strong></span></span></strong></div>\n
LOCATION:Mango's Tropical Cafe- South Beach
UID:e.166.39480
SEQUENCE:3
DTSTAMP:20260422T001800Z
URL:https://business.miamibeachchamber.com/events/details/exclusive-invite-pancake-french-toast-menu-launch-party-39480
END:VEVENT

END:VCALENDAR
