BEGIN:VCALENDAR
VERSION:2.0
PRODID:-//ChamberMaster//Event Calendar 2.0//EN
METHOD:PUBLISH
X-PUBLISHED-TTL:P3D
REFRESH-INTERVAL:P3D
CALSCALE:GREGORIAN
BEGIN:VEVENT
DTSTART:20200219T233000Z
DTEND:20200220T013000Z
X-MICROSOFT-CDO-ALLDAYEVENT:FALSE
SUMMARY:Euphoric Emporium
DESCRIPTION:Euphoric Emporium\n\n\n\nAn interactive experience that will challenge your perception and capture your imagination.\n\n\n\nFREE VIP Tickets for You and Your Guests\n\n\n\nIncludes 2 premium drink tickets & small bites
X-ALT-DESC;FMTTYPE=text/html:<div style="text-align: center\;">Euphoric Emporium<br>\n<br>\nAn interactive experience that will challenge your perception and capture your imagination.<br>\n<br>\nFREE VIP Tickets for You and Your Guests<br>\n<br>\n<strong><em>Includes 2 premium drink tickets &amp\; small bites</em></strong></div>\n
LOCATION:511 NE 15 ST Miami FL 33132
UID:e.166.48185
SEQUENCE:3
DTSTAMP:20260424T102252Z
URL:https://business.miamibeachchamber.com/events/details/euphoric-emporium-48185
END:VEVENT

END:VCALENDAR
