BEGIN:VCALENDAR
VERSION:2.0
PRODID:-//ChamberMaster//Event Calendar 2.0//EN
METHOD:PUBLISH
X-PUBLISHED-TTL:P3D
REFRESH-INTERVAL:P3D
CALSCALE:GREGORIAN
BEGIN:VEVENT
DTSTART:20190412T150000Z
DTEND:20190412T170000Z
X-MICROSOFT-CDO-ALLDAYEVENT:FALSE
SUMMARY:Elayne Weisburd Excellence in Education Awards & Wendy's Retirement Celebration
DESCRIPTION:2019 Elayne Weisburd\n\nExcellence in Education Award Luncheon\n\nRetirement Celebration for Wendy Unger Schapira\n\n\n\nJoin us as we honor Miami Beach's most innovative educators. At this yearly event\, we honor the very best educator from each of Miami Beach's public schools and a panel of judges who select the "Teacher of the Year\," who will be announced at the event. The Excellence in Education Award Luncheon was created in honor of Elayne Weisburd for her many years of dedicated service to improving education.\n\n\n\nWe will also be honoring our very own Wendy Unger Schapira for her 40 years of service to the Miami Beach business community.\n\n\n\n\n\nFPL\n\n Title Sponsor\n\n \n\nHonoring our 8 Finalists from the Miami Beach Feeder Pattern School To Be Announced Soon\n\nSponsors\n\n\n\nAtlantic Broadband\n\nMango's Tropical Cafe\n\nOffice Depot/Office Max\,\n\nIno Halegua\n\n\n\n \n\nWould you like to join us as a Sponsor? Please contact Wendy Schapira (Wendyu@miamibeachchamber.com)
X-ALT-DESC;FMTTYPE=text/html:<p align="center" class="xmsonormal" style="text-align:center"><span style="font-size: 15pt\;"><span style="font-family:arial\;"><span style="font-size:24px\;">2019 Elayne Weisburd</span></span><br />\n<strong><span style="font-size:18px\;">Excellence in Education Award Luncheon</span></strong><br />\n<span style="font-size:16px\;"><em>Retirement Celebration for Wendy Unger Schapira</em></span><br />\n<br />\nJoin us as we honor Miami Beach&rsquo\;s most innovative educators. At this yearly event\, we honor the very best educator from each of Miami Beach&rsquo\;s public schools and a panel of judges who select the &ldquo\;Teacher of the Year\,&rdquo\; who&nbsp\;will be announced at the event. The Excellence in Education Award Luncheon was created in honor of Elayne&nbsp\;Weisburd&nbsp\;for her many years of dedicated service to improving education.<br />\n<br />\nWe will also be honoring our very own Wendy Unger Schapira for her 40 years of service to the Miami Beach&nbsp\;business community.</span><br />\n<br />\n<br />\n<i><span style="font-size: 15pt\; font-family: Arial\, sans-serif\;">FPL<br />\n&#8203\;</span></i><b style="font-size: 14px\; text-align: center\;"><i><span style="font-family: Arial\, sans-serif\;">Title Sponsor</span></i></b><br />\n<i><span style="font-size: 15pt\; font-family: Arial\, sans-serif\;">&nbsp\;</span></i></p>\n\n<p align="center" class="xmsonormal" style="margin-bottom:12.0pt\;text-align:center"><b><i><span style="font-size: 15pt\; font-family: Arial\, sans-serif\;">Honoring our 8 Finalists from the Miami Beach&nbsp\;Feeder Pattern School To Be Announced Soon</span></i></b></p>\n\n<div style="text-align: center\;"><span style="font-size:14px\;"><strong>Sponsors</strong></span><br />\n<br />\nAtlantic Broadband<br />\nMango&#39\;s Tropical Cafe<br />\nOffice Depot/Office Max\,<br />\nIno Halegua<br />\n<br />\n&nbsp\;</div>\n\n<div style="text-align: center\;">Would you like to join us as a Sponsor? Please contact Wendy Schapira (Wendyu@miamibeachchamber.com)</div>\n
LOCATION:Jungle Island 1111 Parrot Jungle Trail Miami\, FL 33132
UID:e.166.40968
SEQUENCE:3
DTSTAMP:20260422T114220Z
URL:https://business.miamibeachchamber.com/events/details/elayne-weisburd-excellence-in-education-awards-wendy-s-retirement-celebration-40968
END:VEVENT

END:VCALENDAR
