BEGIN:VCALENDAR
VERSION:2.0
PRODID:-//ChamberMaster//Event Calendar 2.0//EN
METHOD:PUBLISH
X-PUBLISHED-TTL:P3D
REFRESH-INTERVAL:P3D
CALSCALE:GREGORIAN
BEGIN:VEVENT
DTSTART:20220113T210000Z
DTEND:20220113T223000Z
X-MICROSOFT-CDO-ALLDAYEVENT:FALSE
SUMMARY:Diversifying Housing Options: Building Better and Resilient Neighborhoods on Miami Beach
DESCRIPTION:The Advocacy Council is joined by the Pillar Board of Trustees\, Women's Business Council\, Real Estate Council\, Sustainability and Resiliency Task Force and Law Office of Andr  L. Williams PA\n\n \n\nTopic: \n\nDiversifying Housing Options: Building Better and Resilient Neighborhoods on Miami Beach\n\n\n\nThis is the first of an ongoing series of high level conversations on creating a diversity of housing options on Miami Beach\n\n \n\nExperts and policymakers discuss forward thinking alternatives to creating a range of housing types to stabilize neighborhoods while addressing the challenges of the coastal community on Miami Beach.\n\n  \n\nModerator:  \n\nAndr  L. Williams\, Esq.\n\nLaw Office of Andr  L. Williams PA \n\n \n\nSpeakers:\n\n\n\nReinaldo Borges\,\n\nPrincipal and CEO | Borges Architects \n\n \n\nNed Murray\, Ph.D.\, AICP\,\n\nAssociate Director of the Metropolitan Center | Florida International University in Miami \n\n \n\nTim Merriman Jr.\n\n Partner | NAI Miami Commercial Brokerage\n\n\n\nAnnie Lord\n\nExecutive Director | Miami Homes for All \n\n\n\nWayne Jones\n\nDeputy Police Chief | City of Miami Beach \n\n\n\nLarry H. Padilla\n\nRegional Vice President | MICHAELS DEVELOPMENT AFFORDABLE\n\n\n\nDaniel Veitia\n\nPresident/CEO Real Estate Broker\, CAM\n\nUrban Resource | Real Estate & Property Management\n\n\n\nDavid Richarson\n\nCity of Miami Beach Commissioner
X-ALT-DESC;FMTTYPE=text/html:<div style="text-align: center\;">The Advocacy Council is joined by the Pillar Board of Trustees\, Women&#39\;s Business Council\, Real Estate Council\, Sustainability and Resiliency Task Force and Law Office of Andr&eacute\; L. Williams PA<br />\n&nbsp\;<br />\n<u><strong>Topic: </strong></u><br />\nDiversifying Housing Options: Building Better and Resilient Neighborhoods on Miami Beach<br />\n<br />\nThis is the first of an ongoing series of high level conversations on creating a diversity of housing options on Miami Beach<br />\n&nbsp\;<br />\nExperts and policymakers discuss forward thinking alternatives to creating a range of housing types to stabilize neighborhoods while addressing the challenges of the coastal community on Miami Beach.<br />\n&nbsp\;&nbsp\;<br />\n<u><strong>Moderator:</strong></u>&nbsp\;&nbsp\;<br />\nAndr&eacute\; L. Williams\, Esq.<br />\nLaw Office of Andr&eacute\; L. Williams PA&nbsp\;<br />\n&nbsp\;<br />\n<u><strong>Speakers:</strong></u><br />\n<br />\n<span style="text-align: center\;">Reinaldo Borges\,<br />\nPrincipal and CEO |&nbsp\;Borges Architects&nbsp\;</span><br />\n&nbsp\;<br />\nNed Murray\, Ph.D.\, AICP\,<br />\nAssociate Director of the Metropolitan Center |&nbsp\;Florida International University in Miami&nbsp\;<br />\n&nbsp\;<br />\nTim Merriman Jr.<br />\n&nbsp\;Partner |&nbsp\;NAI Miami Commercial Brokerage<br />\n<br />\nAnnie Lord<br />\nExecutive Director |&nbsp\;Miami Homes for All&nbsp\;<br />\n<br />\nWayne Jones<br />\nDeputy Police Chief |&nbsp\;City of Miami Beach&nbsp\;<br />\n<br />\nLarry H. Padilla<br />\nRegional Vice President |&nbsp\;MICHAELS DEVELOPMENT AFFORDABLE<br />\n<br />\nDaniel Veitia<br />\nPresident/CEO&nbsp\;Real Estate Broker\, CAM<br />\nUrban Resource | Real Estate &amp\; Property Management<br />\n<br />\nDavid Richarson<br />\nCity of Miami Beach Commissioner</div>\n\n<div>&nbsp\;</div>\n
LOCATION:Click Here to Register for Zoom
UID:e.166.59091
SEQUENCE:3
DTSTAMP:20260419T161740Z
URL:https://business.miamibeachchamber.com/events/details/diversifying-housing-options-building-better-and-resilient-neighborhoods-on-miami-beach-59091
END:VEVENT

END:VCALENDAR
