BEGIN:VCALENDAR
VERSION:2.0
PRODID:-//ChamberMaster//Event Calendar 2.0//EN
METHOD:PUBLISH
X-PUBLISHED-TTL:P3D
REFRESH-INTERVAL:P3D
CALSCALE:GREGORIAN
BEGIN:VEVENT
DTSTART:20181114T133000Z
DTEND:20181114T153000Z
X-MICROSOFT-CDO-ALLDAYEVENT:FALSE
SUMMARY:Disruptive Innovation in Healthcare
DESCRIPTION:Join the Health & Wellness Council and the Technology Council for a panel discussion on\n\n"Disruptive Innovation in Healthcare"\n\n\n\n\n\nPanelists:\n\n\n\nDanny "Elf" Elfenbein\n\nManager\, Consumer Health + Innovation + Partnerships at Baptist Health South Florida\n\n\n\nPhillip Morris\n\nChief Clinical Officer at Special Care Providers of America\n\n\n\nAndrew Parker\n\nFounder & CEO of Papa\n\n\n\nParking:\n\nParking will be validated in attached Garage.
X-ALT-DESC;FMTTYPE=text/html:<div style="text-align: center\;"><span style="font-size:16px\;"><span style="font-family:arial\;">Join the Health &amp\; Wellness Council and the Technology Council for a panel discussion on<br />\n&quot\;Disruptive Innovation in Healthcare&quot\;</span></span><br />\n<br />\n<br />\n<u><strong><span style="font-size:16px\;">Panelists:</span></strong></u><br />\n<br />\n<a href="https://www.linkedin.com/in/danny-elf-elfenbein-6623943/">Danny &quot\;Elf&quot\;&nbsp\;Elfenbein</a><br />\nManager\, Consumer Health + Innovation + Partnerships at Baptist Health South Florida<br />\n<br />\n<a href="https://www.linkedin.com/in/phillip-morris-03534562/">Phillip Morris</a><br />\nChief Clinical Officer at Special Care Providers of America<br />\n<br />\n<a href="https://www.linkedin.com/in/andrew-parker-30904417">Andrew Parker</a><br />\nFounder &amp\; CEO of Papa<br />\n<br />\n<u><strong><span style="font-family:arial\;"><span style="font-size:16px\;">Parking:</span></span></strong></u><br />\n<span style="font-family:arial\;"><span style="font-size:16px\;">Parking will be validated in attached Garage.</span></span></div>\n
LOCATION:Baptist Health Miami Beach 709 Alton Rd #440\, Miami Beach\, FL 33139
UID:e.166.39045
SEQUENCE:3
DTSTAMP:20260422T002133Z
URL:https://business.miamibeachchamber.com/events/details/disruptive-innovation-in-healthcare-39045
END:VEVENT

END:VCALENDAR
